BEGIN:VCALENDAR
VERSION:2.0
PRODID:-//ChamberMaster//Event Calendar 2.0//EN
METHOD:PUBLISH
X-PUBLISHED-TTL:P3D
REFRESH-INTERVAL:P3D
CALSCALE:GREGORIAN
BEGIN:VEVENT
DTSTART:20251209T003000Z
DTEND:20251209T033000Z
X-MICROSOFT-CDO-ALLDAYEVENT:FALSE
SUMMARY:World of Beer Class with Kirby!
DESCRIPTION:School's in Session   Beer School\, That Is! \n\nJoin us Monday\, December 8th at Lake Louie Brewing for a World of Beer Class\, led by our legendary brewmaster\, Kirby Nelson!\n\nThis interactive session dives deep into the fascinating world of beer   starting with a focus on the German Altbier. You'll learn how this unique style evolved from Dutch Kuyt beers in the 1800s and get to taste beers brewed just for this class on our pilot system!\n\nFrom there\, Kirby will guide you through beer's incredible history   covering raw ingredients\, brewing techniques\, yeast and fermentation\, packaging\, and more. And of course\, what's a beer class without a little sampling? Enjoy a lineup of classic styles as you learn\, sip\, and discover new favorites.\n\nDetails:\n\n\n	Monday\, December 8th\n	6:30 9:30 PM\n	Lake Louie Taproom (Verona\, WI)\n	$25 per person\n	Only 30 spots available!\n	Sampling of 8 brews!\n\n\nCome thirsty for knowledge (and beer)   and experience an evening of true Gem tlichkeit: good beer\, good company\, and good vibes all around.
X-ALT-DESC;FMTTYPE=text/html:<p>School&rsquo\;s in Session &ndash\; Beer School\, That Is!&nbsp\;<br />\nJoin us Monday\, December 8th at Lake Louie Brewing for a World of Beer Class\, led by our legendary brewmaster\, Kirby Nelson!</p>\n\n<p>This interactive session dives deep into the fascinating world of beer &mdash\; starting with a focus on the German Altbier. You&rsquo\;ll learn how this unique style evolved from Dutch Kuyt beers in the 1800s and get to taste beers brewed just for this class on our pilot system!</p>\n\n<p>From there\, Kirby will guide you through beer&rsquo\;s incredible history &mdash\; covering raw ingredients\, brewing techniques\, yeast and fermentation\, packaging\, and more. And of course\, what&rsquo\;s a beer class without a little sampling? Enjoy a lineup of classic styles as you learn\, sip\, and discover new favorites.</p>\n\n<p>Details:</p>\n\n<ul>\n	<li>Monday\, December 8th</li>\n	<li>6:30&ndash\;9:30 PM</li>\n	<li>Lake Louie Taproom (Verona\, WI)</li>\n	<li>$25 per person</li>\n	<li>Only 30 spots available!</li>\n	<li>Sampling of 8 brews!</li>\n</ul>\n\n<p>Come thirsty for knowledge (and beer) &mdash\; and experience an evening of true Gem&uuml\;tlichkeit: good beer\, good company\, and good vibes all around.</p>\n
LOCATION:
UID:e.2659.6148
SEQUENCE:3
DTSTAMP:20260424T182257Z
URL:https://business.veronawi.com/events/details/world-of-beer-class-with-kirby-6148
END:VEVENT

END:VCALENDAR
