BEGIN:VCALENDAR
VERSION:2.0
PRODID:-//ChamberMaster//Event Calendar 2.0//EN
METHOD:PUBLISH
X-PUBLISHED-TTL:P3D
REFRESH-INTERVAL:P3D
CALSCALE:GREGORIAN
BEGIN:VEVENT
DTSTART:20160521T130000Z
DTEND:20160521T170000Z
X-MICROSOFT-CDO-ALLDAYEVENT:FALSE
SUMMARY:Word on the Street: Verona Public Library 5K Run/Walk
DESCRIPTION:Get out your running shoes for "Word on the Street"\, the Verona Public Library?s 5K run/walk on Saturday\, May 21. Register now for Verona's newest run/walk event. The 5K run/walk will begin at 8 a.m.\, and a kids? 1/4-mile or 1/2-mile run begins at 9:15 a.m. The course will begin and end at the Verona Public Library\, and goes through residential streets and along the park road in scenic Badger Prairie Park. Running-related quotes along the course will keep runners inspired and entertained. The Verona Fire Department and Fitch-Rona EMS will host a water station at the firehouse. Runners\, walkers\, and strollers are welcome at this family-friendly event. Register online at veronapubliclibrary.org. Early registration for the 5K run/walk is $33 through May 18. Registrations May 19 through race day are $40. Race t-shirts can only be guaranteed for registrations prior to May 5th. Registration for the kids' run is $11. All proceeds from Word on the Street will go to the Verona Public Library Endowment Fund. Major sponsors for this event include Verona Area Chamber of Commerce\, Bendyworks\, Gymfinity\, Distillery Design\, and Verona Family Dental. Additional support is provided by Athletic Republic-Madison\, Capitol Physical Therapy\, Communication Innovations\, Dane County Parks\, Fairfield Inn & Suites by Marriott/Madison-Verona\, Holiday Inn Express & Suites/Madison-Verona\, Infusion Mixed Martial Arts\, Karate America Verona\, MadPower Training\, Minerals and More\, Resurrection Lutheran Church\, UW Health\, Verona Chiropractic\, and Verona Hometown Pharmacy.
X-ALT-DESC;FMTTYPE=text/html:Get out your running shoes for &quot\;Word on the Street&quot\;\, the Verona Public Library?s 5K run/walk on Saturday\, May 21. Register now for Verona&#39\;s newest run/walk event. The 5K run/walk will begin at 8 a.m.\, and a kids? 1/4-mile or 1/2-mile run begins at 9:15 a.m. The course will begin and end at the Verona Public Library\, and goes through residential streets and along the park road in scenic Badger Prairie Park. Running-related quotes along the course will keep runners inspired and entertained. The Verona Fire Department and Fitch-Rona EMS will host a water station at the firehouse. Runners\, walkers\, and strollers are welcome at this family-friendly event. Register online at veronapubliclibrary.org. Early registration for the 5K run/walk is $33 through May 18. Registrations May 19 through race day are $40. Race t-shirts can only be guaranteed for registrations prior to May 5th. Registration for the kids&#39\; run is $11. All proceeds from Word on the Street will go to the Verona Public Library Endowment Fund. Major sponsors for this event include Verona Area Chamber of Commerce\, Bendyworks\, Gymfinity\, Distillery Design\, and Verona Family Dental. Additional support is provided by Athletic Republic-Madison\, Capitol Physical Therapy\, Communication Innovations\, Dane County Parks\, Fairfield Inn &amp\; Suites by Marriott/Madison-Verona\, Holiday Inn Express &amp\; Suites/Madison-Verona\, Infusion Mixed Martial Arts\, Karate America Verona\, MadPower Training\, Minerals and More\, Resurrection Lutheran Church\, UW Health\, Verona Chiropractic\, and Verona Hometown Pharmacy.
LOCATION:Verona Public Library 500 Silent Street
UID:e.2659.138
SEQUENCE:3
DTSTAMP:20260419T211936Z
URL:https://business.veronawi.com/events/details/word-on-the-street-verona-public-library-5k-run-walk-05-21-2016-138
END:VEVENT

END:VCALENDAR
