BEGIN:VCALENDAR
VERSION:2.0
PRODID:-//ChamberMaster//Event Calendar 2.0//EN
METHOD:PUBLISH
X-PUBLISHED-TTL:P3D
REFRESH-INTERVAL:P3D
CALSCALE:GREGORIAN
BEGIN:VEVENT
DTSTART:20250311T170000Z
DTEND:20250311T180000Z
X-MICROSOFT-CDO-ALLDAYEVENT:FALSE
SUMMARY:Wisconsin Economic Outlook
DESCRIPTION:Wisconsin's economy is entering 2025 with optimism and opportunity. As recession fears fade and the economic landscape stabilizes\, businesses\, communities\, and policymakers must stay informed about the factors shaping our state's future. From labor market trends and housing developments to broader national economic dynamics\, don't miss the insights you need to navigate the year ahead with confidence. Key discussion points:   The overall U.S. economic outlook for 2025   a positive shift from earlier recession fears   Current economic conditions and emerging trends impacting Wisconsin   Insights from recent economic forecasts shaping the future   Updates on Wisconsin's labor market and housing conditions   Key factors influencing growth and resilience in Wisconsin's economy Presented by: Steven C. Deller Vilas Distinguished Achievement Professor Community Development Extension Specialist Department of Agricultural and Applied Economics University of Wisconsin Madison
X-ALT-DESC;FMTTYPE=text/html:Wisconsin&rsquo\;s economy is entering 2025 with optimism and opportunity. As recession fears fade and the economic landscape stabilizes\, businesses\, communities\, and policymakers must stay informed about the factors shaping our state&rsquo\;s future. From labor market trends and housing developments to broader national economic dynamics\, don&rsquo\;t miss the insights you need to navigate the year ahead with confidence. Key discussion points: &bull\; The overall U.S. economic outlook for 2025 &ndash\; a positive shift from earlier recession fears &bull\; Current economic conditions and emerging trends impacting Wisconsin &bull\; Insights from recent economic forecasts shaping the future &bull\; Updates on Wisconsin&rsquo\;s labor market and housing conditions &bull\; Key factors influencing growth and resilience in Wisconsin&rsquo\;s economy Presented by: Steven C. Deller Vilas Distinguished Achievement Professor Community Development Extension Specialist Department of Agricultural and Applied Economics University of Wisconsin&mdash\;Madison
LOCATION:Online
UID:e.2659.5402
SEQUENCE:3
DTSTAMP:20260425T042323Z
URL:https://business.veronawi.com/events/details/wisconsin-economic-outlook-03-11-2025-5402
END:VEVENT

END:VCALENDAR
