BEGIN:VCALENDAR
VERSION:2.0
PRODID:-//ChamberMaster//Event Calendar 2.0//EN
METHOD:PUBLISH
X-PUBLISHED-TTL:P3D
REFRESH-INTERVAL:P3D
CALSCALE:GREGORIAN
BEGIN:VEVENT
DTSTART:20260117T000000Z
DTEND:20260118T220000Z
X-MICROSOFT-CDO-ALLDAYEVENT:FALSE
SUMMARY:Winter Warm Up
DESCRIPTION:January 16-18 | Various ticket types\n\nJoin us for a mid-winter party on the banks of the Sugar River in the heart of Paoli\, WI featuring sauna\, yoga\, food\, beer\, and your favorite bands! Whether you're a first-timer or a seasoned sauna lover\, this weekend offers something for everyone.\n\nFRI 6PM-9PM | SAT 11AM-9PM | SUN 11AM-4PM
X-ALT-DESC;FMTTYPE=text/html:<strong>January 16-18 |&nbsp\;<em>Various ticket types</em></strong><br />\n<span style="color:rgb(28\, 28\, 28)\; font-family:futura book regular\; font-size:26px">Join us for a mid-winter party on the banks of the Sugar River in the heart of Paoli\, WI&mdash\;featuring sauna\, yoga\, food\, beer\, and your favorite bands! Whether you&rsquo\;re a first-timer or a seasoned sauna lover\, this weekend offers something for everyone.</span><br />\n<span style="background-color:rgba(0\, 0\, 0\, 0)\; color:rgb(28\, 28\, 28)\; font-family:futura book regular\; font-size:26px">FRI 6PM-9PM | SAT 11AM-9PM | SUN 11AM-4PM</span>
LOCATION:Seven Acre Dairy Company\, Paoli\, WI
UID:e.2659.6175
SEQUENCE:3
DTSTAMP:20260421T055201Z
URL:https://business.veronawi.com/events/details/winter-warm-up-6175
END:VEVENT

END:VCALENDAR
