BEGIN:VCALENDAR
VERSION:2.0
PRODID:-//ChamberMaster//Event Calendar 2.0//EN
METHOD:PUBLISH
X-PUBLISHED-TTL:P3D
REFRESH-INTERVAL:P3D
CALSCALE:GREGORIAN
BEGIN:VEVENT
DTSTART;VALUE=DATE:20160817
DTEND;VALUE=DATE:20160921
TRANSP:TRANSPARENT
X-MICROSOFT-CDO-ALLDAYEVENT:TRUE
SUMMARY:Verona Young Professionals School Supply Drive
DESCRIPTION:The Verona Young Professionals in connection with Farmers Insurance - The Arttus Agency are collecting school supplies from August 17th 2016 to Sept 20th 2016. Help us by donating new and like new materials at participating drop-off locations.
X-ALT-DESC;FMTTYPE=text/html:The Verona Young Professionals in connection with Farmers Insurance - The Arttus Agency are collecting school supplies from August 17th 2016 to Sept 20th 2016. Help us by donating new and like new materials at participating drop-off locations.
LOCATION:Drop off locations include: Farmers Insurance -- The Arttus Agency 624A Struck St Madison\, WI 53719 Capitol Bank 108 E Verona Ave I Verona\, WI 53593 Main Street Dentists 105 N Main St I Verona\, WI 53593
UID:e.2659.148
SEQUENCE:3
DTSTAMP:20260419T154621Z
URL:https://business.veronawi.com/events/details/verona-young-professionals-school-supply-drive-08-17-2016-148
END:VEVENT

END:VCALENDAR
