BEGIN:VCALENDAR
VERSION:2.0
PRODID:-//ChamberMaster//Event Calendar 2.0//EN
METHOD:PUBLISH
X-PUBLISHED-TTL:P3D
REFRESH-INTERVAL:P3D
CALSCALE:GREGORIAN
BEGIN:VEVENT
DTSTART:20160526T220000Z
DTEND:20160531T220000Z
X-MICROSOFT-CDO-ALLDAYEVENT:FALSE
SUMMARY:Verona Hometown Days Third Annual MEDALLION HUNT
DESCRIPTION:3rd Annual Medallion Hunt\, beginning May 26th at 5 pm\, exactly one week before Hometown Days! The Medallion Hunt is a family friendly community activity with a $250 cash prize! The Medallion will be hidden somewhere in Verona. Clues will be released daily via our Hometown Days website and social media. Hunters will need to follow the clues in order to find the medallion.
X-ALT-DESC;FMTTYPE=text/html:<span style="color:black\;"><span style="font-family:arial\,sans-serif\;"><span style="font-size:10.0pt\;">3rd Annual Medallion Hunt\, beginning May 26th at 5 pm\, exactly one week before Hometown Days! The Medallion Hunt is a family friendly community activity with a $250 cash prize!&nbsp\;The Medallion will be hidden somewhere in Verona. Clues will be released daily via our Hometown Days website and social media. Hunters will need to follow the clues in order to find the medallion.</span></span></span>
LOCATION:Verona\, WI
UID:e.2659.141
SEQUENCE:3
DTSTAMP:20260419T211750Z
URL:https://business.veronawi.com/events/details/verona-hometown-days-third-annual-medallion-hunt-05-26-2016-141
END:VEVENT

END:VCALENDAR
