BEGIN:VCALENDAR
VERSION:2.0
PRODID:-//ChamberMaster//Event Calendar 2.0//EN
METHOD:PUBLISH
X-PUBLISHED-TTL:P3D
REFRESH-INTERVAL:P3D
CALSCALE:GREGORIAN
BEGIN:VEVENT
DTSTART:20160602T220000Z
DTEND:20160605T230000Z
X-MICROSOFT-CDO-ALLDAYEVENT:FALSE
SUMMARY:Verona Hometown Days
DESCRIPTION:This year\, we've brought in a few new acts for the beer tent\, The LoveMonkeys\, Madison County\, and Pat McCurdy. As always\, we look forward to Cherry Pie on Saturday night. We're still ironing out some details\, but we think this year's Hometown Days is off to a great start! \n\n \n\nWe still have sponsorships of all levels available! If you are interested\, please e-mail Le at ljordan@veronawi.com or Jen Miller at jlmiller1185@gmail.com.
X-ALT-DESC;FMTTYPE=text/html:<span style="color:black\;"><span style="font-family:arial\,sans-serif\;"><span style="font-size:9.0pt\;">This year\, we&#39\;ve brought in a few new acts for the beer tent\,&nbsp\;The LoveMonkeys\, Madison County\, and&nbsp\;Pat McCurdy. As always\, we look forward to&nbsp\;Cherry Pie&nbsp\;on Saturday night. We&#39\;re still ironing out some details\, but we think this year&#39\;s Hometown Days is off to a great start!&nbsp\;</span></span></span><br />\n&nbsp\;<br />\n<span style="color:black\;"><span style="font-family:arial\,sans-serif\;"><span style="font-size:9.0pt\;">We still have sponsorships of all levels available! If you are interested\, please e-mail Le at <a href="mailto:ljordan@veronawi.com" linktype="2" shape="rect" target="_blank"><span style="color:black\;">ljordan@veronawi.com</span></a> or Jen Miller at <a href="mailto:jlmiller1185@gmail.com" linktype="2" shape="rect" target="_blank"><span style="color:black\;">jlmiller1185@gmail.com</span></a>.</span></span></span>
LOCATION:Hometown USA Festival Park
UID:e.2659.136
SEQUENCE:3
DTSTAMP:20260419T211808Z
URL:https://business.veronawi.com/events/details/verona-hometown-days-06-02-2016-136
END:VEVENT

END:VCALENDAR
