BEGIN:VCALENDAR
VERSION:2.0
PRODID:-//ChamberMaster//Event Calendar 2.0//EN
METHOD:PUBLISH
X-PUBLISHED-TTL:P3D
REFRESH-INTERVAL:P3D
CALSCALE:GREGORIAN
BEGIN:VEVENT
DTSTART:20160520T003000Z
DTEND:20160520T020000Z
X-MICROSOFT-CDO-ALLDAYEVENT:FALSE
SUMMARY:Verona Area Community Band 5th Anniversary Concert
DESCRIPTION:The Verona Area Concert Band is celebrating 5 years as a band! To observe this accomplishment\, the band invites the community to enjoy a spectacular evening of some epic music. The band will be playing the following exciting pieces: Carmina Burana (Orff arr. Krance) Cuban Overture (Gershwin arr. Rogers) First Suite in E-Flat (Holst) Molly on the Shore (Grainger) October (Whitacre)
X-ALT-DESC;FMTTYPE=text/html:The Verona Area Concert Band is celebrating 5 years as a band! To observe this accomplishment\, the band invites the community to enjoy a spectacular evening of some epic music. The band will be playing the following exciting pieces: Carmina Burana (Orff arr. Krance) Cuban Overture (Gershwin arr. Rogers) First Suite in E-Flat (Holst) Molly on the Shore (Grainger) October (Whitacre)
LOCATION:Verona Area Performing Arts Center 300 Richard St. Verona\, WI 53593
UID:e.2659.137
SEQUENCE:3
DTSTAMP:20260419T211936Z
URL:https://business.veronawi.com/events/details/verona-area-community-band-5th-anniversary-concert-05-19-2016-137
END:VEVENT

END:VCALENDAR
