BEGIN:VCALENDAR
VERSION:2.0
PRODID:-//ChamberMaster//Event Calendar 2.0//EN
METHOD:PUBLISH
X-PUBLISHED-TTL:P3D
REFRESH-INTERVAL:P3D
CALSCALE:GREGORIAN
BEGIN:VEVENT
DTSTART:20250205T150000Z
DTEND:20250205T153000Z
X-MICROSOFT-CDO-ALLDAYEVENT:FALSE
SUMMARY:The Trend Report
DESCRIPTION:Stay ahead with our monthly Trend Report: a concise summary of key business and consumer trends shaping the market\, plus a curated book or podcast recommendation to inspire and inform. Exclusively for Chamber of Commerce members.
X-ALT-DESC;FMTTYPE=text/html:<h3 class="fl-heading" style="box-sizing: border-box\; font-family: Raleway\, sans-serif\; line-height: 1.4\; color: rgb(85\, 85\, 85)\; font-size: 24px\; text-align: center\; margin: 0px !important\; padding: 0px !important\;"><span class="fl-heading-text" style="box-sizing: border-box\;">Stay ahead with our monthly Trend Report: a concise summary of key business and consumer trends shaping the market\, plus a curated book or podcast recommendation to inspire and inform. Exclusively for Chamber of Commerce members.</span></h3>\n
LOCATION:Buck & Honey's in Mount Horeb
UID:e.2659.5266
SEQUENCE:3
DTSTAMP:20260419T141634Z
URL:https://business.veronawi.com/events/details/the-trend-report-5266
END:VEVENT

END:VCALENDAR
