BEGIN:VCALENDAR
VERSION:2.0
PRODID:-//ChamberMaster//Event Calendar 2.0//EN
METHOD:PUBLISH
X-PUBLISHED-TTL:P3D
REFRESH-INTERVAL:P3D
CALSCALE:GREGORIAN
BEGIN:VEVENT
DTSTART:20160923T200000Z
DTEND:20160923T230000Z
X-MICROSOFT-CDO-ALLDAYEVENT:FALSE
SUMMARY:The Employer Group Grand Opening
DESCRIPTION:The Employer Group invites Chamber members to attend an Open House and ribbon-cutting ceremony at The Employer Group's new location\, on Friday\, September 23\, 2016.  The Open House\, from 3:00   6:00 p.m. will feature tours of The Employer Group's new building\, refreshments\, and networking.  The ribbon-cutting ceremony starts at 4:00 p.m.  Both events will be at 1000 Solar Court\, Verona WI\, 53593.  Please join us!
X-ALT-DESC;FMTTYPE=text/html:<em><span style="font-family:calibri\,sans-serif\;"><span style="font-size:11.0pt\;">The Employer Group invites Chamber members to attend an Open House and ribbon-cutting ceremony at The Employer Group&rsquo\;s new location\, on Friday\, September 23\, 2016.&nbsp\; The Open House\, from 3:00 &ndash\; 6:00 p.m. will feature tours of The Employer Group&rsquo\;s new building\, refreshments\, and networking.&nbsp\; The ribbon-cutting ceremony starts at 4:00 p.m.&nbsp\; Both events will be at 1000 Solar Court\, Verona WI\, 53593.&nbsp\; Please join us!&nbsp\;</span></span></em>
LOCATION:1000 Solar Court\, Verona WI 53593
UID:e.2659.150
SEQUENCE:3
DTSTAMP:20260419T171241Z
URL:https://business.veronawi.com/events/details/the-employer-group-grand-opening-150
END:VEVENT

END:VCALENDAR
