BEGIN:VCALENDAR
VERSION:2.0
PRODID:-//ChamberMaster//Event Calendar 2.0//EN
METHOD:PUBLISH
X-PUBLISHED-TTL:P3D
REFRESH-INTERVAL:P3D
CALSCALE:GREGORIAN
BEGIN:VEVENT
DTSTART:20250603T230000Z
DTEND:20250604T010000Z
X-MICROSOFT-CDO-ALLDAYEVENT:FALSE
SUMMARY:Taco Tuesdays at the Farley Center
DESCRIPTION:Summer Music Nights at the Farley Center\n\nJoin us the first Tuesday of each month this summer for an evening of live music\, great food\, and good vibes in the outdoors!\n\n  Bring a chair and a cooler\n\n  Enjoy tasty eats from local taco trucks\n\n  Kick back to live bluegrass performances:\n\n\n	\n	June 3   Down from the Hills\n	\n	\n	July 1   Too Sick Charlie\n	\n	\n	August 5   People with Strings\n	\n\n\nCome hungry\, stay for the music!
X-ALT-DESC;FMTTYPE=text/html:<!-- x-tinymce/html -->\n<p data-end="277" data-start="105"><strong data-end="149" data-start="105">Summer Music Nights at the Farley Center</strong><br data-end="152" data-start="149" />\nJoin us the first Tuesday of each month this summer for an evening of live music\, great food\, and good vibes in the outdoors!</p>\n\n<p data-end="400" data-start="279">&#129681\; Bring a chair and a cooler<br data-end="311" data-start="308" />\n&#127790\; Enjoy tasty eats from local taco trucks<br data-end="356" data-start="353" />\n&#127926\; Kick back to live bluegrass performances:</p>\n\n<ul data-end="517" data-start="402">\n	<li data-end="440" data-start="402">\n	<p data-end="440" data-start="404"><strong data-end="414" data-start="404">June 3</strong> &ndash\; <em data-end="438" data-start="417">Down from the Hills</em></p>\n	</li>\n	<li data-end="476" data-start="441">\n	<p data-end="476" data-start="443"><strong data-end="453" data-start="443">July 1</strong> &ndash\; <em data-end="474" data-start="456">Too Sick Charlie</em></p>\n	</li>\n	<li data-end="517" data-start="477">\n	<p data-end="517" data-start="479"><strong data-end="491" data-start="479">August 5</strong> &ndash\; <em data-end="515" data-start="494">People with Strings</em></p>\n	</li>\n</ul>\n\n<p data-end="551" data-start="519">Come hungry\, stay for the music!</p>\n
LOCATION:The Farley Center 2299 Spring Rose Rd\, Verona
UID:e.2659.5593
SEQUENCE:3
DTSTAMP:20260425T042323Z
URL:https://business.veronawi.com/events/details/taco-tuesdays-at-the-farley-center-5593
END:VEVENT

END:VCALENDAR
