BEGIN:VCALENDAR
VERSION:2.0
PRODID:-//ChamberMaster//Event Calendar 2.0//EN
METHOD:PUBLISH
X-PUBLISHED-TTL:P3D
REFRESH-INTERVAL:P3D
CALSCALE:GREGORIAN
BEGIN:VEVENT
DTSTART;VALUE=DATE:20250811
DTEND;VALUE=DATE:20250808
TRANSP:TRANSPARENT
X-MICROSOFT-CDO-ALLDAYEVENT:TRUE
SUMMARY:Stuff The Bus With School Supplies
DESCRIPTION:The Verona Lions Club is teaming up with the school social workers in the Verona Area School District and inviting the community to help them "Stuff the Bus" with school supplies for the 2025-2026 school year. According to Karen Fletcher project coordinator of the Verona Lions Club\, ?The donated school supplies will make a difference in the lives of our local children and will give them the supplies they need to be successful in school. Whether you donate a single notebook or a backpack\, your donation will make a difference.  Anything that you can do today will help a child tomorrow!?\nYou can drop off school supplies at Verona Vision Care (320 S. Main St\, Verona) or Sugar River United Methodist Church (415 W Verona Ave\, Verona).  Lions will also pick up school supplies from your home by calling 608-845-6067 or 608-712-8897\n\nFor a School Supplies list by school: http://www.verona.k12.wi.us/\n\nCash donations are welcome!\n\nChecks can be mailed to:\n\nVerona Lions Club\n\nc/o Steve Ciha\n\n465 Todd St.\n\nVerona\, WI 53593
X-ALT-DESC;FMTTYPE=text/html:<h2 style="text-align:left"><span style="font-size:12px"><span style="font-family:arial\,helvetica\,sans-serif"><span style="color:black">The </span><span style="color:black">Verona</span><span style="color:black"> Lions Club is teaming up with</span><span style="color:black"> the school social workers in the Verona Area School District</span><span style="color:black"> and inviting the community to help them "Stuff the Bus</span><span style="color:black">" with school supplies for the 2025-2026&nbsp\;school year.</span><span style="color:black"> According to</span>&nbsp\;<font color="#000000">Karen Fletcher</font>&nbsp\;<span style="color:black">project coordinator of the Verona </span><span style="color:black">Lions Club\, ?The d</span><span style="color:black">onated school supplies</span><span style="color:black"> will make a difference in the lives of our local children and will give them the supplies they need to be successful in school. </span><span style="color:windowtext">Whether you donate a single notebook or a backpack\, your donation will make a difference.&nbsp\; Anything that you can do today will help a child tomorrow!?</span></span></span></h2>\n<span style="font-size:12px"><span style="font-family:arial\,helvetica\,sans-serif">You can drop off school supplies at <strong>Verona</strong> <strong>Vision Care </strong>(320 S. Main St\, Verona) or<strong> Sugar River United Methodist Church</strong> (415 W Verona Ave\, Verona).&nbsp\; Lions will also pick up school supplies from your home by calling 608-845-6067 or 608-712-8897<br>\n<strong>For a School Supplies list by school:</strong> <strong>http://www.verona.k12.wi.us/</strong><br>\n<strong>Cash donations are welcome!</strong></span></span><br>\n<strong><span style="font-family:calibri\,sans-serif"><span style="font-size:14.0pt">Checks can be mailed to:</span></span></strong><br>\n<span style="font-family:lucida fax\,serif">Verona Lions Club</span><br>\n<span style="font-family:lucida fax\,serif">c/o Steve Ciha</span><br>\n<span style="font-family:lucida fax\,serif">465 Todd St.</span><br>\n<span style="font-family:lucida fax\,serif">Verona\, WI 53593</span><br>\n&nbsp\;<br>\n<br>\n&nbsp\;
LOCATION:You can drop off school supplies at Verona Vision Care (320 S. Main St\, Verona) or Sugar River United Methodist Church (415 W Verona Ave\, Verona).
UID:e.2659.6067
SEQUENCE:3
DTSTAMP:20260425T014931Z
URL:https://business.veronawi.com/events/details/stuff-the-bus-with-school-supplies-08-11-2025-6067
END:VEVENT

END:VCALENDAR
