BEGIN:VCALENDAR
VERSION:2.0
PRODID:-//ChamberMaster//Event Calendar 2.0//EN
METHOD:PUBLISH
X-PUBLISHED-TTL:P3D
REFRESH-INTERVAL:P3D
CALSCALE:GREGORIAN
BEGIN:VEVENT
DTSTART;VALUE=DATE:20160520
DTEND;VALUE=DATE:20160521
TRANSP:TRANSPARENT
X-MICROSOFT-CDO-ALLDAYEVENT:TRUE
SUMMARY:Strollin' Verona
DESCRIPTION:Jazz Consortium's Strollin' Season Opener in Verona on Friday\, May 20th\n\n \n\nEleven bands.  Six hours of continuous live music.  Five different venues\, including an outdoor youth stage.  And no cover charges.  These are the makings of the Greater Madison Jazz Consortium's popular "jazz stroll" series that's launching its third season in the City of Verona on Friday\, May 20th.  With a staggered performance schedule\, and with four of the five venues located on two adjoining blocks of South Main Street\, attendees will be able to stroll easily from stage to stage and sample many different musical styles.\n\n \n\n"Strollin' Verona" is the seventh "jazz stroll" produced by the Jazz Consortium in a series that began two years ago at Madison's Schenk's Corners commercial district\, and has so far been warmly embraced by each of its host communities.  Once again\, the Consortium's Nick Moran (an outstanding jazz bassist in his own right) has booked an intriguing mix of bands showcasing the wide stylistic range of instrumental and vocal jazz regularly available to audiences in Dane County.  Performers will include saxophonist Pawan Benjamin from New York performing with the Miguel McQuade Trio\, vocalists Marilyn Fisher and Susan Hofer\, rousing funky blues from The Jimmys\, the classic organ-centered combo sounds of Todd Phipps and The ORGANization\, the Barley Wine trio of musicians who work at Epic and specialize in tunes from the Great American Songbook\, drummer Rand Moore's piano trio\, and the swing duo Mal-O-Dua.\n\n \n\n	\n		\n			STROLLIN' VERONA PERFORMANCE SCHEDULE\n\n			FRIDAY\, MAY 20\, 2016\n\n			 \n\n			Hometown Junction Park Youth Stage: South Main Street at the Military Ridge Bike Trail (weather permitting)\n\n			\n				4:30 PM: Milestone Quartet (from Madison West High School)\n				5:00 PM: Smoother Than Butter (from Madison West High School)\n				5:30 PM: Amos Egleston Quartet (from Madison Memorial High School)\n			\n			 \n\n			Avanti Italian Restaurant (119 South Main Street)\n\n			\n				5:00 PM: Vocalist Susan Hofer and Friends\n				6:00 PM: Mal-O-Dua\n			\n			 \n\n			Toot + Kate's Winebar (109 South Main Street)\n\n			\n				5:30 PM: Barley Wine\n				6:30 PM: Vocalist Marilyn Fisher and Guitarist John Vitale\n			\n			 \n\n			Hop Haus Brewing Company (231 South Main Street)\n\n			\n				7:00 PM: Rand Moore Trio (with pianist Paul Muench and bassist John Schaffer)\n				8:00 PM: Miguel McQuade Trio featuring New York saxophonist Pawan Benjamin\n			\n			 \n\n			Wisconsin Brewing Company (1079 American Way)\n\n			\n				6:00   8:30 PM: The Jimmys\n				9:00 PM: Organist Todd Phipps and The ORGANization\n			\n			\n		\n	\n\n \n\n \n\nIn addition to performances by eight professional bands\, "Strollin' Verona" features a youth stage at Hometown Junction Park\, where ensembles from Madison West and Madison Memorial High Schools will perform.  "One of the Consortium's goals is to cultivate the next generations of jazz musicians and fans\," said Moran\, noting that the youth stage is a standard part of each Strollin' event.  "Performing outside the friendly confines of their school auditorium is a terrific growth experience for student musicians\," he added.\n\n \n\nStrollin' Verona is made possible by sponsorships from the Verona Area Chamber of Commerce\, the Bank of Cross Plains-Verona\, and the City of Verona\, as well as a grant from the Dane County Cultural Affairs Commission.  "We're delighted that Verona's leaders have embraced this event as a way to showcase the small hometown businesses in their growing downtown district\," said Darren Sterud\, one of the Jazz Consortium's Strollin' series co-producers.  "We hope the community's response will show our host venues that live jazz can be good for business\," he said.  Adding to the Strollin' festivities will be drawings for free tickets to upcoming major jazz concerts at the Wisconsin Union Theater. \n\n \n\nThe May 20th Verona event marks the first time that the Jazz Consortium is taking Strollin' to a community outside the City of Madison.  The Consortium will be staging two more Strollin' events will later this year\, on Main Street in Downtown Madison on July 22nd and in Downtown Middleton on September 2nd.
X-ALT-DESC;FMTTYPE=text/html:<strong><span style="font-family:calibri\,sans-serif\;"><span style="font-size:13.5pt\;">Jazz Consortium&rsquo\;s Strollin&rsquo\; Season Opener in Verona on Friday\, May 20<sup>th</sup></span></span></strong><br />\n&nbsp\;<br />\n<span style="font-family:calibri\,sans-serif\;">Eleven bands.&nbsp\; Six hours of continuous live music.&nbsp\; Five different venues\, including an outdoor youth stage.&nbsp\; And no cover charges.&nbsp\; These are the makings of the Greater Madison Jazz Consortium&rsquo\;s popular &ldquo\;jazz stroll&rdquo\; series that&rsquo\;s launching its third season in the City of Verona on Friday\, May 20<sup>th</sup>.&nbsp\; With a staggered performance schedule\, and with four of the five venues located on two adjoining blocks of South Main Street\, attendees will be able to stroll easily from stage to stage and sample many different musical styles.</span><br />\n&nbsp\;<br />\n<span style="font-family:calibri\,sans-serif\;">&ldquo\;Strollin&rsquo\; Verona&rdquo\; is the seventh &ldquo\;jazz stroll&rdquo\; produced by the Jazz Consortium in a series that began two years ago at Madison&rsquo\;s Schenk&rsquo\;s Corners commercial district\, and has so far been warmly embraced by each of its host communities.&nbsp\; Once again\, the Consortium&rsquo\;s Nick Moran (an outstanding jazz bassist in his own right) has booked an intriguing mix of bands showcasing the wide stylistic range of instrumental and vocal jazz regularly available to audiences in Dane County.&nbsp\; Performers will include saxophonist Pawan Benjamin from New York performing with the Miguel McQuade Trio\, vocalists Marilyn Fisher and Susan Hofer\, rousing funky blues from The Jimmys\, the classic organ-centered combo sounds of Todd Phipps and The ORGANization\, the Barley Wine trio of musicians who work at Epic and specialize in tunes from the Great American Songbook\, drummer Rand Moore&rsquo\;s piano trio\, and the swing duo Mal-O-Dua.</span><br />\n&nbsp\;\n<table border="0" cellpadding="0" cellspacing="0" style="width:624px\;margin-left:5.4pt\;background:#E6E6E6\;border-collapse:collapse\;" width="624">\n	<tbody>\n		<tr>\n			<td style="width:624px\;border:solid windowtext 1.0pt\;padding:0in 5.4pt 0in 5.4pt\;vertical-align:top\;"><strong><span style="font-family:calibri\,sans-serif\;">STROLLIN&rsquo\; VERONA PERFORMANCE SCHEDULE</span></strong><br />\n			<strong><span style="font-family:calibri\,sans-serif\;">FRIDAY\, MAY 20\, 2016</span></strong><br />\n			&nbsp\;<br />\n			<strong><u><span style="font-family:calibri\,sans-serif\;">Hometown Junction Park Youth Stage: South Main Street at the Military Ridge Bike Trail (weather permitting)</span></u></strong>\n\n			<ul>\n				<li><span style="font-family:calibri\,sans-serif\;">4:30 PM: Milestone Quartet (from Madison West High School)</span></li>\n				<li><span style="font-family:calibri\,sans-serif\;">5:00 PM: Smoother Than Butter (from Madison West High School)</span></li>\n				<li><span style="font-family:calibri\,sans-serif\;">5:30 PM: Amos Egleston Quartet (from Madison Memorial High School)</span></li>\n			</ul>\n			&nbsp\;<br />\n			<strong><u><span style="font-family:calibri\,sans-serif\;">Avanti Italian Restaurant (119 South Main Street)</span></u></strong>\n\n			<ul>\n				<li><span style="font-family:calibri\,sans-serif\;">5:00 PM: Vocalist Susan Hofer and Friends</span></li>\n				<li><span style="font-family:calibri\,sans-serif\;">6:00 PM: Mal-O-Dua</span></li>\n			</ul>\n			&nbsp\;<br />\n			<strong><u><span style="font-family:calibri\,sans-serif\;">Toot + Kate&rsquo\;s Winebar (109 South Main Street)</span></u></strong>\n\n			<ul>\n				<li><span style="font-family:calibri\,sans-serif\;">5:30 PM: Barley Wine</span></li>\n				<li><span style="font-family:calibri\,sans-serif\;">6:30 PM: Vocalist Marilyn Fisher and Guitarist John Vitale</span></li>\n			</ul>\n			&nbsp\;<br />\n			<strong><u><span style="font-family:calibri\,sans-serif\;">Hop Haus Brewing Company (231 South Main Street)</span></u></strong>\n\n			<ul>\n				<li><span style="font-family:calibri\,sans-serif\;">7:00 PM: Rand Moore Trio (with pianist Paul Muench and bassist John Schaffer)</span></li>\n				<li><span style="font-family:calibri\,sans-serif\;">8:00 PM: Miguel McQuade Trio featuring New York saxophonist Pawan Benjamin</span></li>\n			</ul>\n			&nbsp\;<br />\n			<strong><u><span style="font-family:calibri\,sans-serif\;">Wisconsin Brewing Company (1079 American Way)</span></u></strong>\n\n			<ul>\n				<li><span style="font-family:calibri\,sans-serif\;">6:00 &ndash\; 8:30 PM: The Jimmys</span></li>\n				<li><span style="font-family:calibri\,sans-serif\;">9:00 PM: Organist Todd Phipps and The ORGANization</span></li>\n			</ul>\n			</td>\n		</tr>\n	</tbody>\n</table>\n&nbsp\;<br />\n&nbsp\;<br />\n<span style="font-family:calibri\,sans-serif\;">In addition to performances by eight professional bands\, &ldquo\;Strollin&rsquo\; Verona&rdquo\; features a youth stage at Hometown Junction Park\, where ensembles from Madison West and Madison Memorial High Schools will perform.&nbsp\; &ldquo\;One of the Consortium&rsquo\;s goals is to cultivate the next generations of jazz musicians and fans\,&rdquo\; said Moran\, noting that the youth stage is a standard part of each Strollin&rsquo\; event.&nbsp\; &ldquo\;Performing outside the friendly confines of their school auditorium is a terrific growth experience for student musicians\,&rdquo\; he added.</span><br />\n&nbsp\;<br />\n<span style="font-family:calibri\,sans-serif\;">Strollin&rsquo\; Verona is made possible by sponsorships from the Verona Area Chamber of Commerce\, the Bank of Cross Plains-Verona\, and the City of Verona\, as well as a grant from the Dane County Cultural Affairs Commission.&nbsp\; &ldquo\;We&rsquo\;re delighted that Verona&rsquo\;s leaders have embraced this event as a way to showcase the small hometown businesses in their growing downtown district\,&rdquo\; said Darren Sterud\, one of the Jazz Consortium&rsquo\;s Strollin&rsquo\; series co-producers.&nbsp\; &ldquo\;We hope the community&rsquo\;s response will show our host venues that live jazz can be good for business\,&rdquo\; he said.&nbsp\; Adding to the Strollin&rsquo\; festivities will be drawings for free tickets to upcoming major jazz concerts at the Wisconsin Union Theater. </span><br />\n&nbsp\;<br />\n<span style="font-family:calibri\,sans-serif\;">The May 20<sup>th</sup> Verona event marks the first time that the Jazz Consortium is taking Strollin&rsquo\; to a community outside the City of Madison.&nbsp\; The Consortium will be staging two more Strollin&rsquo\; events will later this year\, on Main Street in Downtown Madison on July 22<sup>nd</sup> and in Downtown Middleton on September 2<sup>nd</sup>.</span>
LOCATION:Hometown Junction Park Youth Stage (Weather Permitting) Avanti Italian Restaurant Toot & Kate's Wine Bar Hop Haus Brewing Company Wisconsin Brewing Company
UID:e.2659.139
SEQUENCE:3
DTSTAMP:20260419T211616Z
URL:https://business.veronawi.com/events/details/strollin-verona-05-20-2016-139
END:VEVENT

END:VCALENDAR
