BEGIN:VCALENDAR
VERSION:2.0
PRODID:-//ChamberMaster//Event Calendar 2.0//EN
METHOD:PUBLISH
X-PUBLISHED-TTL:P3D
REFRESH-INTERVAL:P3D
CALSCALE:GREGORIAN
BEGIN:VEVENT
DTSTART:20161115T133000Z
DTEND:20161115T150000Z
X-MICROSOFT-CDO-ALLDAYEVENT:FALSE
SUMMARY:State of the City Address
DESCRIPTION:The Chamber will be holding its State of the City Address with Mayor Jon Hochkammer\, Jeff Mikorski and Adam Sayre on Tuesday\, November 15 at 7:30 am. The meeting will be held in the Verona Fire Department Building on the corner of Verona Avenue and Lincoln St.\n\n \n\nThis meeting will update us on city issues and answer questions from the audience. \n\n \n\nAll Chamber members\, employees and guests are welcome to attend this meeting. If you know you will be attending\, please submit your registration!
X-ALT-DESC;FMTTYPE=text/html:<div _mce_style="text-align: left\;" align="left" style="color: rgb(0\, 86\, 150)\; font-family: Arial\, sans-serif\; font-size: 12px\;"><span _mce_style="font-size: 11pt\; font-family: Arial\, sans-serif\;" style="font-size: 11pt\;">The Chamber will be holding its State of the City Address with Mayor Jon Hochkammer\, Jeff Mikorski&nbsp\;and Adam Sayre on Tuesday\, November 15 at 7:30 am. The meeting will be held in the Verona Fire Department Building on the corner of Verona Avenue and Lincoln St.</span></div>\n\n<div _mce_style="margin: 0in 0in 0.0001pt\; text-align: left\;" align="left" style="color: rgb(0\, 86\, 150)\; font-family: Arial\, sans-serif\; font-size: 12px\; margin: 0in 0in 0.0001pt\;">&nbsp\;</div>\n\n<div _mce_style="margin: 0in 0in 0.0001pt\; text-align: left\;" align="left" style="color: rgb(0\, 86\, 150)\; font-family: Arial\, sans-serif\; font-size: 12px\; margin: 0in 0in 0.0001pt\;"><span _mce_style="font-size: 11pt\; font-family: Arial\, sans-serif\;" style="font-size: 11pt\;">This meeting will update us on city issues and answer questions from the audience.&nbsp\;</span></div>\n\n<div _mce_style="margin: 0in 0in 0.0001pt\; text-align: left\;" align="left" style="color: rgb(0\, 86\, 150)\; font-family: Arial\, sans-serif\; font-size: 12px\; margin: 0in 0in 0.0001pt\;"><span _mce_style="font-size: 11pt\; font-family: Arial\, sans-serif\;" style="font-size: 11pt\;">&nbsp\;</span></div>\n\n<div _mce_style="text-align: left\;" align="left" style="color: rgb(0\, 86\, 150)\; font-family: Arial\, sans-serif\; font-size: 12px\;"><span _mce_style="font-size: 11pt\; font-family: Arial\, sans-serif\;" style="font-size: 11pt\;">All Chamber members\, employees and guests are welcome to attend this meeting. If you know you will be attending\, please submit your registration!</span></div>\n
LOCATION:Verona Fire Department - 101 Lincoln St\, Verona\, WI 53593
UID:e.2659.416
SEQUENCE:3
DTSTAMP:20260419T125453Z
URL:https://business.veronawi.com/events/details/state-of-the-city-address-416
END:VEVENT

END:VCALENDAR
