BEGIN:VCALENDAR
VERSION:2.0
PRODID:-//ChamberMaster//Event Calendar 2.0//EN
METHOD:PUBLISH
X-PUBLISHED-TTL:P3D
REFRESH-INTERVAL:P3D
CALSCALE:GREGORIAN
BEGIN:VEVENT
DTSTART:20160813T010000Z
DTEND:20160813T040000Z
X-MICROSOFT-CDO-ALLDAYEVENT:FALSE
SUMMARY:STARGAZING AND PERSEID METEOR SHOW AT DONALD PARK
DESCRIPTION:STARGAZING AND PERSEID METEOR SHOW AT DONALD PARK\n\n \n\nView the summer night planets and stars and watch the Perseid Meteor showers at Donald County Park\, Friday\, August 12th.  Friends of Donald Park and Madison Astronomical Society are partnering to give you a view of the fabulous night sky.  Bring your family and friends and learn about the wonders of planets and stars.  Telescopes\, refreshments and an evening fire will also be provided.  Volunteers from the Madison Astronomical Society will be available to point out the various planets and answer questions.\n\n \n\nMeet at the Pop's Knoll picnic area in Donald Park on Friday\, August 12th at 8:00 p.m.  In the event of rain or overcast sky we will announce the cancellation on our websites by 4:00 p.m.   For an update\, visit our websites at Friends of Donald Park www.donaldpark.org\, Madison Astronomical Society www.madisonastro.org.  If you have any questions\, please email contact@donaldpark.org.
X-ALT-DESC;FMTTYPE=text/html:<strong><span style="font-family:arial\,sans-serif\;">STARGAZING AND PERSEID METEOR SHOW AT DONALD PARK</span></strong><br />\n&nbsp\;<br />\n<span style="font-family:arial\,sans-serif\;">View the summer night planets and stars and watch the Perseid Meteor showers at Donald County Park\, Friday\, August 12th.&nbsp\;&nbsp\;Friends of Donald Park and Madison Astronomical Society are partnering to give you a view of the fabulous night sky.&nbsp\; Bring your family and friends and learn about the wonders of planets and stars.&nbsp\; Telescopes\, refreshments and an evening fire will also be provided.&nbsp\; Volunteers from the Madison Astronomical Society will be available to point out the various planets and answer questions.</span><br />\n&nbsp\;<br />\n<span style="font-family:arial\,sans-serif\;">Meet at the Pop&rsquo\;s Knoll picnic area in Donald Park on Friday\, August 12th at 8:00 p.m.&nbsp\; <em>In the event of rain or overcast sky we will announce the cancellation on our websites by 4:00 p.m.&nbsp\; </em>&nbsp\;For an update\, visit our websites at Friends of Donald Park </span><span style="font-family:arial\,sans-serif\;"><span style="font-size:10.0pt\;"><a href="http://www.donaldpark.org/"><span style="font-size:12.0pt\;">www.donaldpark.org</span></a></span></span><span style="font-family:arial\,sans-serif\;">\, Madison Astronomical Society </span><span style="font-family:arial\,sans-serif\;"><span style="font-size:10.0pt\;"><a href="http://www.madisonastro.org/"><span style="font-size:12.0pt\;">www.madisonastro.org</span></a></span></span><span style="font-family:arial\,sans-serif\;">.&nbsp\; If you have any questions\, please email </span><span style="font-family:arial\,sans-serif\;"><span style="font-size:10.0pt\;"><a href="mailto:contact@donaldpark.org"><span style="font-size:12.0pt\;">contact@donaldpark.org</span></a></span></span><span style="font-family:arial\,sans-serif\;">. &nbsp\;</span><br />\n&nbsp\;
LOCATION:Donald Park is located at 1945 Hwy 92 between Mt. Horeb and Mt. Vernon.
UID:e.2659.146
SEQUENCE:3
DTSTAMP:20260419T171600Z
URL:https://business.veronawi.com/events/details/stargazing-and-perseid-meteor-show-at-donald-park-08-12-2016-146
END:VEVENT

END:VCALENDAR
