BEGIN:VCALENDAR
VERSION:2.0
PRODID:-//ChamberMaster//Event Calendar 2.0//EN
METHOD:PUBLISH
X-PUBLISHED-TTL:P3D
REFRESH-INTERVAL:P3D
CALSCALE:GREGORIAN
BEGIN:VEVENT
DTSTART:20161103T210000Z
DTEND:20161103T230000Z
X-MICROSOFT-CDO-ALLDAYEVENT:FALSE
SUMMARY:School/Business Mixer
DESCRIPTION:The Verona Area Chamber of Commerce Business/Education Committee is once again pleased to invite all members and guests to the annual Business/Education Mixer scheduled for Thursday\, November 3 from 4-6 p.m. at Gray's Tied House in Verona. This fun gathering features free food\, a cash bar\, and ample opportunities to network with your fellow Chamber members as well as representatives from Verona Area High School. \n\n \n\nWe request that each business member planning to attend bring a prize to add to the Prizapalooza Table! Everyone who comes will likely leave with a door prize!
X-ALT-DESC;FMTTYPE=text/html:<span style="color:black\;"><span style="font-family:arial\,sans-serif\;"><span style="font-size:9.0pt\;">The Verona Area Chamber of&nbsp\;Commerce Business/Education Committee is once again pleased to invite&nbsp\;all members and guests to the annual Business/Education&nbsp\;Mixer scheduled for Thursday\, November 3 from 4-6 p.m. at Gray&#39\;s Tied House in Verona. This fun gathering features free food\, a&nbsp\;cash bar\, and ample opportunities to network with your fellow&nbsp\;Chamber members as well as&nbsp\;representatives&nbsp\;from Verona Area High School.&nbsp\;</span></span></span><br />\n&nbsp\;<br />\n<span style="color:black\;"><span style="font-family:arial\,sans-serif\;"><span style="font-size:9.0pt\;">We request that each business member planning to attend bring a prize to add to the Prizapalooza Table!&nbsp\;Everyone who comes will likely leave with a door prize!&nbsp\;</span></span></span>
LOCATION:Gray's Tied House
UID:e.2659.412
SEQUENCE:3
DTSTAMP:20260419T125156Z
URL:https://business.veronawi.com/events/details/school-business-mixer-412
END:VEVENT

END:VCALENDAR
