BEGIN:VCALENDAR
VERSION:2.0
PRODID:-//ChamberMaster//Event Calendar 2.0//EN
METHOD:PUBLISH
X-PUBLISHED-TTL:P3D
REFRESH-INTERVAL:P3D
CALSCALE:GREGORIAN
BEGIN:VEVENT
DTSTART:20251206T153000Z
DTEND:20251206T173000Z
X-MICROSOFT-CDO-ALLDAYEVENT:FALSE
SUMMARY:Saturday Morning With Santa
DESCRIPTION:The Verona Lions will welcome Santa to town on Saturday morning December 6\, 2025 at the Lake Ridge Bank-Verona\, 108 N. Main Street in Verona.   The doors will open at 9:30. Santa will be available from 9:30 to 11:30 to visit with children in the Bank's Community Room located in the lower level of the building.  The bank lobby is not open on Saturday\, so please enter the building at the door located at the rear of the building.  While the children wait to visit with Santa Tami Schroeder from Funny Faces Family Entertainment will create balloon sculptures and Antsy Pants Paints will do face painting.  Families should plan to arrive early to enjoy the activities available.  Please plan to arrive early so your family can enjoy all of the activities offered during the morning.  Anyone arriving after 11 a.m. is not guaranteed they will receive balloon sculptures and/or facing painting. Healthy food items will also be available.  Throughout the morning members of the Verona Lions Club will provide free children's vision screening using the latest in digital screening equipment.  The Lions will be collecting non-perishable food items for the Badger Prairie Needs Network pantry\, so please bring an item with you. This is a FREE event open to everyone in the community.  Don't forget to bring your cameras to capture photos of your children or grandchildren with Santa.  For more information call Lion Sarah at 608-239-8797or email: verona.lions@gmail.com.
X-ALT-DESC;FMTTYPE=text/html:The Verona Lions will welcome Santa to town on Saturday morning December 6\, 2025 at the Lake Ridge Bank-Verona\, 108 N. Main Street in Verona.&nbsp\;&nbsp\; The doors will open at 9:30. Santa will be available from 9:30 to 11:30 to visit with children in the Bank&rsquo\;s Community Room located in the lower level of the building.&nbsp\; The bank lobby is not open on Saturday\, so please enter the building at the door located at the rear of the building.&nbsp\; While the children wait to visit with Santa Tami Schroeder from Funny Faces Family Entertainment will create balloon sculptures and Antsy Pants Paints will do face painting.&nbsp\; Families should plan to arrive early to enjoy the activities available.&nbsp\; Please plan to arrive early so your family can enjoy all of the activities offered during the morning.&nbsp\; Anyone arriving after 11 a.m. is not guaranteed they will receive balloon sculptures and/or facing painting. Healthy food items will also be available.&nbsp\; Throughout the morning members of the Verona Lions Club will provide free children&rsquo\;s vision screening using the latest in digital screening equipment.&nbsp\; The Lions will be collecting non-perishable food items for the Badger Prairie Needs Network pantry\, so please bring an item with you<u>.<strong> This is a FREE event open to everyone in the community</strong></u><strong>.&nbsp\; Don&rsquo\;t forget to bring your cameras </strong>to capture photos of your children or grandchildren with Santa.&nbsp\; For more information call Lion Sarah at <span style="font-family:arial\,sans-serif"><span style="font-size:10.0pt">608-239-8797</span></span>or email: <a href="mailto:verona.lions@gmail.com">verona.lions@gmail.com</a>.&nbsp\;
LOCATION:Lake Ridge Bank-Verona Community Room 108 N Main Street Verona\, WI 53593
UID:e.2659.6144
SEQUENCE:3
DTSTAMP:20260424T182350Z
URL:https://business.veronawi.com/events/details/saturday-morning-with-santa-12-06-2025-6144
END:VEVENT

END:VCALENDAR
