BEGIN:VCALENDAR
VERSION:2.0
PRODID:-//ChamberMaster//Event Calendar 2.0//EN
METHOD:PUBLISH
X-PUBLISHED-TTL:P3D
REFRESH-INTERVAL:P3D
CALSCALE:GREGORIAN
BEGIN:VEVENT
DTSTART:20251011T180000Z
DTEND:20251011T210000Z
X-MICROSOFT-CDO-ALLDAYEVENT:FALSE
SUMMARY:Pumpkin Phest
DESCRIPTION:Pumpkin Phest is back at Lake Louie! \n\nJoin us on Saturday\, October 11th (1 4 PM) for an afternoon packed with fall fun\, live music\, and of course   some specialty brews!\n\nHere's what's in store:\n\n\n	3 specialty brews on tap!\n	Live music by Vehicle6! (starting at 1 PM)\n	Pumpkin carving fun!\n	Cousins Maine Lobster food truck!\n	Sugarface Donuts!\n	Face painting for all ages!\n	Stein-holding contest (BYO stein & flex those arms!)\n\n\nPro tip: Your stein isn't just for the contest fill it up and drink from it all event long!\n\nGrab your friends\, your favorite stein\, and come celebrate fall with us! See you there!
X-ALT-DESC;FMTTYPE=text/html:<p>Pumpkin Phest is back at Lake Louie!&nbsp\;</p>\n\n<p>Join us on Saturday\, October 11th (1&ndash\;4 PM) for an afternoon packed with fall fun\, live music\, and of course &mdash\; some specialty brews!</p>\n\n<p>Here&rsquo\;s what&rsquo\;s in store:</p>\n\n<ul>\n	<li>3 specialty brews on tap!</li>\n	<li>Live music by Vehicle6! (starting at 1 PM)</li>\n	<li>Pumpkin carving fun!</li>\n	<li>Cousins Maine Lobster food truck!</li>\n	<li>Sugarface Donuts!</li>\n	<li>Face painting for all ages!</li>\n	<li>Stein-holding contest (BYO stein &amp\; flex those arms!)</li>\n</ul>\n\n<p>Pro tip: Your stein isn&rsquo\;t just for the contest&hellip\;fill it up and drink from it all event long!</p>\n\n<p>Grab your friends\, your favorite stein\, and come celebrate fall with us! See you there!</p>\n
LOCATION:
UID:e.2659.6117
SEQUENCE:3
DTSTAMP:20260424T225050Z
URL:https://business.veronawi.com/events/details/pumpkin-phest-10-11-2025-6117
END:VEVENT

END:VCALENDAR
