BEGIN:VCALENDAR
VERSION:2.0
PRODID:-//ChamberMaster//Event Calendar 2.0//EN
METHOD:PUBLISH
X-PUBLISHED-TTL:P3D
REFRESH-INTERVAL:P3D
CALSCALE:GREGORIAN
BEGIN:VEVENT
DTSTART:20160825T223000Z
DTEND:20160826T003000Z
X-MICROSOFT-CDO-ALLDAYEVENT:FALSE
SUMMARY:Professional Networking Social
DESCRIPTION:Professional Networking Social hosted by Liberty Mutual Insurance. Expecting 30+ business professionals in the area who are looking to grow their referral networks. This event is FREE with drinks and appetizers provided.
X-ALT-DESC;FMTTYPE=text/html:Professional Networking Social hosted by Liberty Mutual Insurance. Expecting 30+ business professionals in the area who are looking to grow their referral networks. This event is FREE with drinks and appetizers provided.
LOCATION:The Great Dane - Fitchburg 2980 Cahill Main
UID:e.2659.149
SEQUENCE:3
DTSTAMP:20260419T170909Z
URL:https://business.veronawi.com/events/details/professional-networking-social-08-25-2016-149
END:VEVENT

END:VCALENDAR
