BEGIN:VCALENDAR
VERSION:2.0
PRODID:-//ChamberMaster//Event Calendar 2.0//EN
METHOD:PUBLISH
X-PUBLISHED-TTL:P3D
REFRESH-INTERVAL:P3D
CALSCALE:GREGORIAN
BEGIN:VEVENT
DTSTART:20160501T003000Z
DTEND:20160501T030000Z
X-MICROSOFT-CDO-ALLDAYEVENT:FALSE
SUMMARY:Peter\, Paul and Mary "Now" - VAPAS
DESCRIPTION:
X-ALT-DESC;FMTTYPE=text/html:
LOCATION:
UID:e.2659.135
SEQUENCE:3
DTSTAMP:20260419T224113Z
URL:https://business.veronawi.com/events/details/peter-paul-and-mary-now-vapas-04-30-2016-135
END:VEVENT

END:VCALENDAR
