BEGIN:VCALENDAR
VERSION:2.0
PRODID:-//ChamberMaster//Event Calendar 2.0//EN
METHOD:PUBLISH
X-PUBLISHED-TTL:P3D
REFRESH-INTERVAL:P3D
CALSCALE:GREGORIAN
BEGIN:VEVENT
DTSTART:20180819T160000Z
DTEND:20180819T220000Z
X-MICROSOFT-CDO-ALLDAYEVENT:FALSE
SUMMARY:Paul Palooza
DESCRIPTION:A day to celebrate Paul Natzke\n\n\n\nFUNdraising in the Park\n\nLive Music\n\nLocal Food Vendors\n\nHop Garden Beer\n\nRaffle Tickets | Cornhole    \n\n\n\nPub Stage:\n\n11 - 12 pm - Mark Croft\n\n12:30 - 1:30 pm - Sam Sardina\n\n2 - 3 pm  - Drew Jacobs\n\n3:30 - 4:30 pm - Sunspot\n\n\n\nPark Stage:\n\n11:30 - 12:30 pm - Quick & Painless\n\n1 - 2 pm  - Chloe Louise\n\n2:30 - 3:30 pm - Woodrow\n\n4 - 5 pm - Raine Stern\n\n\n\nRaffle Drawing @ 4:30 pm
X-ALT-DESC;FMTTYPE=text/html:A day to celebrate Paul Natzke<br />\n<br />\nFUNdraising in the Park<br />\nLive Music<br />\nLocal Food Vendors<br />\nHop Garden Beer<br />\nRaffle Tickets | Cornhole&nbsp\;&nbsp\;&nbsp\;&nbsp\;<br />\n<br />\nPub Stage:<br />\n11 - 12 pm - Mark Croft<br />\n12:30 - 1:30 pm - Sam Sardina<br />\n2 - 3 pm&nbsp\; - Drew Jacobs<br />\n3:30 - 4:30 pm - Sunspot<br />\n<br />\nPark Stage:<br />\n11:30 - 12:30 pm - Quick &amp\; Painless<br />\n1 - 2 pm&nbsp\; - Chloe Louise<br />\n2:30 - 3:30 pm - Woodrow<br />\n4 - 5 pm - Raine Stern<br />\n<br />\nRaffle Drawing @ 4:30 pm
LOCATION:The Hop Garden - Paoli\, WI
UID:e.2659.2854
SEQUENCE:3
DTSTAMP:20260419T132348Z
URL:https://business.veronawi.com/events/details/paul-palooza-2854
END:VEVENT

END:VCALENDAR
