BEGIN:VCALENDAR
VERSION:2.0
PRODID:-//ChamberMaster//Event Calendar 2.0//EN
METHOD:PUBLISH
X-PUBLISHED-TTL:P3D
REFRESH-INTERVAL:P3D
CALSCALE:GREGORIAN
BEGIN:VEVENT
DTSTART:20251211T000000Z
DTEND:20251211T030000Z
X-MICROSOFT-CDO-ALLDAYEVENT:FALSE
SUMMARY:Paint Your Own Pottery Night - Christmas Edition!
DESCRIPTION:Join us in the taproom for a crafty night of Paint Your Own Pottery (Christmas Edition) - Wednesday\, December 10th from 6-9pm! \n\nCenter Ground Studios will provide a variety of ornaments and table toppers for you to decorate while you enjoy a complementary pint of beer! \n\nGrab some friends and family and have some fun!\n\nThis event is meant for people of all artistic abilities!\n\n$25 presale tickets/ $30 at the door.\n\nClick the link below to secure your spot now!\n\nhttps://checkout.square.site/.../F7AXCGCA2JA2EZQ643EBGKPF\n\n**Wednesdays we have our $12 Pitcher Deal AND $12 Large Pizzas from JonnyO's Pizzeria!**
X-ALT-DESC;FMTTYPE=text/html:<p>Join us in the taproom for a crafty night of Paint Your Own Pottery (Christmas Edition) - Wednesday\, December 10th from 6-9pm!&nbsp\;</p>\n\n<p>Center Ground Studios will provide a variety of ornaments and table toppers for you to decorate while you enjoy a complementary pint of beer!&nbsp\;</p>\n\n<p>Grab some friends and family and have some fun!<br />\nThis event is meant for people of all artistic abilities!<br />\n$25 presale tickets/ $30 at the door.</p>\n\n<p>Click the link below to secure your spot now!<br />\n<a href="https://checkout.square.site/merchant/ML57BVV32VTWN/checkout/F7AXCGCA2JA2EZQ643EBGKPF?fbclid=IwZXh0bgNhZW0CMTAAYnJpZBExanFsbkxkYXlqSDFqcFI4UHNydGMGYXBwX2lkEDIyMjAzOTE3ODgyMDA4OTIAAR4by4bOtEJvubeOx13cspHpdY7dPuJ6g2Vr6Ro5CyJmXsbtCMkpB1Lz0KHUOw_aem_5J3hdRpNxx_ikxIm_Yek-A" style="box-sizing: border-box\; background: transparent\; color: rgb(0\, 148\, 215)\; text-decoration-line: none\; overflow-wrap: break-word\;" target="_blank">https://checkout.square.site/.../F7AXCGCA2JA2EZQ643EBGKPF</a></p>\n\n<p>**Wednesdays we have our $12 Pitcher Deal AND $12 Large Pizzas from JonnyO&rsquo\;s Pizzeria!**</p>\n
LOCATION:
UID:e.2659.6158
SEQUENCE:3
DTSTAMP:20260424T182424Z
URL:https://business.veronawi.com/events/details/paint-your-own-pottery-night-christmas-edition-12-10-2025-6158
END:VEVENT

END:VCALENDAR
