BEGIN:VCALENDAR
VERSION:2.0
PRODID:-//ChamberMaster//Event Calendar 2.0//EN
METHOD:PUBLISH
X-PUBLISHED-TTL:P3D
REFRESH-INTERVAL:P3D
CALSCALE:GREGORIAN
BEGIN:VEVENT
DTSTART:20160423T150000Z
DTEND:20160423T190000Z
X-MICROSOFT-CDO-ALLDAYEVENT:FALSE
SUMMARY:NextHome Grand Opening
DESCRIPTION:Next Home Metro Group announces their Grand Opening Event in their new office at 957 Liberty Drive\, Suite 201 in Verona's brand new Liberty Park Development.(We're so new\, we're hard to find\, so GPS us at 6620 Highway M\, Verona\, which takes you to our corner\, above Sugar River Pizza). The first 50 adults attending receive a FREE drink coupon to Sugar River Pizza! Plus\, there will be hourly giveaways and light snacks and refreshments! All sponsored by the NextHome realty team\, Providence Home Lending and Don-Rick Insurance.\n\n\n\nHourly giveaways include:\n\n\n\n11 am - $50 PDQ card\n\n12 pm - $100 Panera Card\n\n1 pm - $150 Marcus Theaters gift card\n\n2 pm - $200 Sugar River Pizza gift card\n\n\n\nAn entry before 11 am gets you entered in all giveaways. Need not be present to win.
X-ALT-DESC;FMTTYPE=text/html:Next Home Metro Group announces their Grand Opening Event in their new office at 957 Liberty Drive\, Suite 201 in Verona&#39\;s brand new Liberty Park Development.(We&#39\;re so new\, we&#39\;re hard to find\, so GPS us at 6620 Highway M\, Verona\, which takes you to our corner\, above Sugar River Pizza). The first 50 adults attending receive a FREE drink coupon to Sugar River Pizza! Plus\, there will be hourly giveaways and light snacks and refreshments! All sponsored by the NextHome realty team\, Providence Home Lending and Don-Rick Insurance.<br />\n<br />\nHourly giveaways include:<br />\n<br />\n11 am - $50 PDQ card<br />\n12 pm - $100 Panera Card<br />\n1 pm - $150 Marcus Theaters gift card<br />\n2 pm - $200 Sugar River Pizza gift card<br />\n<br />\nAn entry before 11 am gets you entered in all giveaways. Need not be present to win.
LOCATION:
UID:e.2659.134
SEQUENCE:3
DTSTAMP:20260419T223958Z
URL:https://business.veronawi.com/events/details/nexthome-grand-opening-04-23-2016-134
END:VEVENT

END:VCALENDAR
