BEGIN:VCALENDAR
VERSION:2.0
PRODID:-//ChamberMaster//Event Calendar 2.0//EN
METHOD:PUBLISH
X-PUBLISHED-TTL:P3D
REFRESH-INTERVAL:P3D
CALSCALE:GREGORIAN
BEGIN:VEVENT
DTSTART:20240118T223000Z
DTEND:20240119T003000Z
X-MICROSOFT-CDO-ALLDAYEVENT:FALSE
SUMMARY:Networking Happy Hour - Old National Bank Grand Opening!
DESCRIPTION:This month join us for a special Happy Hour celebrating Old National Bank's Grand Opening at their brand new offices/location. Snacks and beverages compliments of Old National Bank.\n\n\n\nThe Happy Hour runs from 4:30 pm - 6:30 pm with the Ribbon Cutting Ceremony 5 pm!
X-ALT-DESC;FMTTYPE=text/html:<span style="font-size:18px\;">This month join us for a special Happy Hour celebrating Old National Bank&#39\;s Grand Opening at their brand new offices/location. Snacks and beverages compliments of Old National Bank.<br />\n<br />\nThe Happy Hour runs from 4:30 pm - 6:30 pm with the Ribbon Cutting Ceremony 5 pm!&nbsp\;</span>
LOCATION:Old National Bank - New Offices! 420 W. Verona Avenue Verona\, WI 53593
UID:e.2659.3940
SEQUENCE:3
DTSTAMP:20260420T093613Z
URL:https://business.veronawi.com/events/details/networking-happy-hour-old-national-bank-grand-opening-3940
END:VEVENT

END:VCALENDAR
