BEGIN:VCALENDAR
VERSION:2.0
PRODID:-//ChamberMaster//Event Calendar 2.0//EN
METHOD:PUBLISH
X-PUBLISHED-TTL:P3D
REFRESH-INTERVAL:P3D
CALSCALE:GREGORIAN
BEGIN:VEVENT
DTSTART:20231116T230000Z
DTEND:20231117T010000Z
X-MICROSOFT-CDO-ALLDAYEVENT:FALSE
SUMMARY:Networking Happy Hour
DESCRIPTION:Join us on the third Thursday of every month for our Networking Happy Hour! Locations will vary so check back to see where the next happy hour will be!
X-ALT-DESC;FMTTYPE=text/html:Join us on the third Thursday of every month for our Networking Happy Hour! Locations will vary so check back to see where the next happy hour will be!
LOCATION:Paddy Mac's 608 W. Verona Ave.\, Verona WI 53593
UID:e.2659.3937
SEQUENCE:3
DTSTAMP:20260420T125019Z
URL:https://business.veronawi.com/events/details/networking-happy-hour-11-16-2023-3937
END:VEVENT

END:VCALENDAR
