BEGIN:VCALENDAR
VERSION:2.0
PRODID:-//ChamberMaster//Event Calendar 2.0//EN
METHOD:PUBLISH
X-PUBLISHED-TTL:P3D
REFRESH-INTERVAL:P3D
CALSCALE:GREGORIAN
BEGIN:VEVENT
DTSTART:20250227T230000Z
DTEND:20250228T010000Z
X-MICROSOFT-CDO-ALLDAYEVENT:FALSE
SUMMARY:Chamber Happy Hour
DESCRIPTION:Join us on the 4th Thursday of every month for our Networking Happy Hour! Locations will vary so check back to see where the next happy hour will be!
X-ALT-DESC;FMTTYPE=text/html:Join us on the 4th Thursday of every month for our Networking Happy Hour! Locations will vary so check back to see where the next happy hour will be!
LOCATION:5th Quarter Bar & Grill
UID:e.2659.3952
SEQUENCE:3
DTSTAMP:20260419T141756Z
URL:https://business.veronawi.com/events/details/networking-happy-hour-02-20-2025-3952
END:VEVENT

END:VCALENDAR
