BEGIN:VCALENDAR
VERSION:2.0
PRODID:-//ChamberMaster//Event Calendar 2.0//EN
METHOD:PUBLISH
X-PUBLISHED-TTL:P3D
REFRESH-INTERVAL:P3D
CALSCALE:GREGORIAN
BEGIN:VEVENT
DTSTART:20250123T230000Z
DTEND:20250124T010000Z
X-MICROSOFT-CDO-ALLDAYEVENT:FALSE
SUMMARY:Chamber Happy Hour
DESCRIPTION:Join us on the third Thursday of every month for our Networking Happy Hour! Locations will vary so check back to see where the next happy hour will be!
X-ALT-DESC;FMTTYPE=text/html:Join us on the third Thursday of every month for our Networking Happy Hour! Locations will vary so check back to see where the next happy hour will be!
LOCATION:Avanti's Italian Restaurant
UID:e.2659.3951
SEQUENCE:3
DTSTAMP:20260419T173021Z
URL:https://business.veronawi.com/events/details/networking-happy-hour-01-16-2025-3951
END:VEVENT

END:VCALENDAR
