BEGIN:VCALENDAR
VERSION:2.0
PRODID:-//ChamberMaster//Event Calendar 2.0//EN
METHOD:PUBLISH
X-PUBLISHED-TTL:P3D
REFRESH-INTERVAL:P3D
CALSCALE:GREGORIAN
BEGIN:VEVENT
DTSTART:20260711T140000Z
DTEND:20260712T210000Z
X-MICROSOFT-CDO-ALLDAYEVENT:FALSE
SUMMARY:National Bridal Sale at Charlotte's Bridal
DESCRIPTION:National Bridal Sale is coming\, and trust us... you are going to want to be ready for this one! Join our Priority Waitlist now to be first in line when booking officially opens for this highly anticipated event at Charlotte's Bridal. Here's how it works: Complete the waitlist form for your preferred location\, and on June 1st\, we'll give you a call to let you know booking is officially open. We'll also send you a direct booking link by text so you can grab your preferred appointment time before spots fill up. This event is always one of our biggest of the year\, with in-stock wedding dresses priced from $499 $1\,499!  Appointment spots are limited. Joining the waitlist is the BEST WAY to get early access and the best chance at snagging your ideal time!  Join La Crosse's waitlist here: https://forms.gle/tnWuCvkDffLYteTi7 Join Eau Claire's waitlist here: https://forms.gle/xse9dEk71pLqVnzA9 Join Madison's waitlist here: https://forms.gle/5vKCoebT8ogL7PkSA We can't wait to celebrate with you at the sale!
X-ALT-DESC;FMTTYPE=text/html:National Bridal Sale is coming\, and trust us... you are going to want to be ready for this one! Join our Priority Waitlist now to be first in line when booking officially opens for this highly anticipated event at Charlotte&rsquo\;s Bridal. Here&rsquo\;s how it works: Complete the waitlist form for your preferred location\, and on June 1st\, we&rsquo\;ll give you a call to let you know booking is officially open. We&rsquo\;ll also send you a direct booking link by text so you can grab your preferred appointment time before spots fill up. This event is always one of our biggest of the year\, with in-stock wedding dresses priced from $499&ndash\;$1\,499!&nbsp\; Appointment spots are limited. Joining the waitlist is the BEST WAY to get early access and the best chance at snagging your ideal time!&nbsp\; Join La Crosse&rsquo\;s waitlist here: <a href="https://docs.google.com/forms/d/e/1FAIpQLSewcT_l8Cznu9y86apZ_1ru_TU5xlC6ktnv7ZpG4a30Sn4rwA/viewform?usp=send_form">https://forms.gle/tnWuCvkDffLYteTi7</a> Join Eau Claire&rsquo\;s waitlist here: <a href="https://docs.google.com/forms/d/e/1FAIpQLSdD4qxnPx7XnRo8krNm51zImXo6HAt3KryucsuKU2NIFP6mrw/viewform">https://forms.gle/xse9dEk71pLqVnzA9</a> Join Madison&rsquo\;s waitlist here: <a href="https://docs.google.com/forms/d/e/1FAIpQLSc89cYO3nA48Qozy9bGpYiMTe51Zq8XMndCFVt50SoeYbJt4A/viewform">https://forms.gle/5vKCoebT8ogL7PkSA</a> We can&rsquo\;t wait to celebrate with you at the sale!
LOCATION:Charlotte's Bridal in Verona
UID:e.2659.6469
SEQUENCE:3
DTSTAMP:20260424T165458Z
URL:https://business.veronawi.com/events/details/national-bridal-sale-at-charlotte-s-bridal-6469
END:VEVENT

END:VCALENDAR
