BEGIN:VCALENDAR
VERSION:2.0
PRODID:-//ChamberMaster//Event Calendar 2.0//EN
METHOD:PUBLISH
X-PUBLISHED-TTL:P3D
REFRESH-INTERVAL:P3D
CALSCALE:GREGORIAN
BEGIN:VEVENT
DTSTART:20250308T160000Z
DTEND:20250308T230000Z
X-MICROSOFT-CDO-ALLDAYEVENT:FALSE
SUMMARY:Linen & Clove - Spring Collection Open House
DESCRIPTION:Be the first to shop our new spring arrivals! Enjoy refreshments\, exclusive samples\, exciting giveaways\, and plenty of design inspiration.  Let's celebrate the season in style!\n\n\n\nThe entire collection will be available online at 10am on March 8th at www.linenandclove.com
X-ALT-DESC;FMTTYPE=text/html:Be the first to shop our new spring arrivals! Enjoy refreshments\, exclusive samples\, exciting giveaways\, and plenty of design inspiration.&nbsp\; Let&#39\;s celebrate the season in style!<br />\n<br />\nThe entire collection will be available online at 10am on March 8th at www.linenandclove.com<br />\n&nbsp\;
LOCATION:606 W Verona Ave Verona\, WI 53593
UID:e.2659.5397
SEQUENCE:3
DTSTAMP:20260425T042328Z
URL:https://business.veronawi.com/events/details/linen-clove-spring-collection-open-house-5397
END:VEVENT

END:VCALENDAR
