BEGIN:VCALENDAR
VERSION:2.0
PRODID:-//ChamberMaster//Event Calendar 2.0//EN
METHOD:PUBLISH
X-PUBLISHED-TTL:P3D
REFRESH-INTERVAL:P3D
CALSCALE:GREGORIAN
BEGIN:VEVENT
DTSTART:20180111T003000Z
DTEND:20180111T013000Z
X-MICROSOFT-CDO-ALLDAYEVENT:FALSE
SUMMARY:Keep Your Back Strong and Healthy
DESCRIPTION:Learn how to keep your back strong and healthy with physical therapist Jo Annyapu at the Verona Public Library on Wednesday\, January 10\, from 6:30 to 7:30 p.m. Annyapu will discuss basic back anatomy and simple says to prevent back injuries while doing daily activities. She will also talk about factors that can contribute to pain and injuries\, and share exercises and stretches to strengthen your core. Participants should wear comfortable clothing and bring a yoga mat or towel. This presentation is free and open to the public. To register\, or for information\, visit www.veronapubliclibrary.org\, or call 608-845-7180. The Verona Public Library is located at 500 Silent Street.
X-ALT-DESC;FMTTYPE=text/html:Learn how to keep your back strong and healthy with physical therapist Jo Annyapu at the Verona Public Library on Wednesday\, January 10\, from 6:30 to 7:30 p.m. Annyapu will discuss basic back anatomy and simple says to prevent back injuries while doing daily activities. She will also talk about factors that can contribute to pain and injuries\, and share exercises and stretches to strengthen your core. Participants should wear comfortable clothing and bring a yoga mat or towel. This presentation is free and open to the public. To register\, or for information\, visit www.veronapubliclibrary.org\, or call 608-845-7180. The Verona Public Library is located at 500 Silent Street.
LOCATION:
UID:e.2659.642
SEQUENCE:3
DTSTAMP:20260420T090116Z
URL:https://business.veronawi.com/events/details/keep-your-back-strong-and-healthy-642
END:VEVENT

END:VCALENDAR
