BEGIN:VCALENDAR
VERSION:2.0
PRODID:-//ChamberMaster//Event Calendar 2.0//EN
METHOD:PUBLISH
X-PUBLISHED-TTL:P3D
REFRESH-INTERVAL:P3D
CALSCALE:GREGORIAN
BEGIN:VEVENT
DTSTART:20160806T150000Z
DTEND:20160806T170000Z
X-MICROSOFT-CDO-ALLDAYEVENT:FALSE
SUMMARY:Healthy Parks Tour
DESCRIPTION:Healthy Parks Tour at Donald County Park\, Saturday\, August 6\, 10:00 - 12:00 noon starting at Pop's Knoll Picnic area.  Sponsored by Friends of Dane County Parks in conjunction with Friends of Donald Park.  Guided walking tours to encourage healthy lifestyles using our beautiful venues in Dane County and highlight the role of our parks in promoting and advancing physical and mental health close to home.  \n\nQuestions: email: contact@donaldpark.org
X-ALT-DESC;FMTTYPE=text/html:<strong><span style="font-family:arial\,sans-serif\;"><span style="font-size:10.0pt\;">Healthy Parks Tour at Donald County Park\, Saturday\, August 6\, 10:00 - 12:00 noon starting at Pop&#39\;s Knoll Picnic area.&nbsp\; Sponsored by Friends of Dane County Parks in conjunction with Friends of Donald Park.&nbsp\; Guided walking tours to encourage healthy lifestyles using our beautiful venues in Dane County and highlight the role of our parks in promoting and advancing physical and mental health close to home.&nbsp\; </span></span></strong><br />\n<strong><span style="font-family:arial\,sans-serif\;"><span style="font-size:10.0pt\;">Questions: email: </span></span></strong><a href="mailto:contact@donaldpark.org"><strong><span style="text-decoration:none\;text-underline:none\;"><span style="color:blue\;"><span style="font-family:arial\,sans-serif\;"><span style="font-size:10.0pt\;">contact@donaldpark.org</span></span></span></span></strong></a>
LOCATION:Donald County Park - Begin at Pop's Knoll Picnic Area
UID:e.2659.145
SEQUENCE:3
DTSTAMP:20260419T171247Z
URL:https://business.veronawi.com/events/details/healthy-parks-tour-08-06-2016-145
END:VEVENT

END:VCALENDAR
