BEGIN:VCALENDAR
VERSION:2.0
PRODID:-//ChamberMaster//Event Calendar 2.0//EN
METHOD:PUBLISH
X-PUBLISHED-TTL:P3D
REFRESH-INTERVAL:P3D
CALSCALE:GREGORIAN
BEGIN:VEVENT
DTSTART:20251031T230000Z
DTEND:20251101T020000Z
X-MICROSOFT-CDO-ALLDAYEVENT:FALSE
SUMMARY:Halloween Party at Lake Louie!
DESCRIPTION:Lake Louie Halloween Party!\n\nFriday\, October 31st | 6 9 PM | Lake Louie Taproom\n\nIt's time to drink and be scary! Join us for a frightfully fun night filled with boos\, brews\, and killer tunes.\n\n\n	Live Music: The Dawg Bones will be rocking the taproom from 6 9pm!\n	Costume Contest: Dress to impress   prizes for the best costumes!\n	Specialty Beer: "Boo Brew"   our hauntingly smooth hybrid of a porter and stout. Dark as midnight with a full\, roasty flavor and a wickedly smooth finish. At 7.4% ABV\, it's the perfect potion to lift your spirits this Halloween.\n\n\nSo grab your ghoul-friends\, throw on your best costume\, and come haunt the taproom with us!
X-ALT-DESC;FMTTYPE=text/html:<p>Lake Louie Halloween Party!<br />\nFriday\, October 31st | 6&ndash\;9 PM | Lake Louie Taproom</p>\n\n<p>It&rsquo\;s time to drink and be scary! Join us for a frightfully fun night filled with boos\, brews\, and killer tunes.</p>\n\n<ul>\n	<li>Live Music: The Dawg Bones will be rocking the taproom from 6&ndash\;9pm!</li>\n	<li>Costume Contest: Dress to impress &mdash\; prizes for the best costumes!</li>\n	<li>Specialty Beer: &quot\;Boo Brew&quot\; &mdash\; our hauntingly smooth hybrid of a porter and stout. Dark as midnight with a full\, roasty flavor and a wickedly smooth finish. At 7.4% ABV\, it&rsquo\;s the perfect potion to lift your spirits this Halloween.</li>\n</ul>\n\n<p>So grab your ghoul-friends\, throw on your best costume\, and come haunt the taproom with us!</p>\n
LOCATION:
UID:e.2659.6132
SEQUENCE:3
DTSTAMP:20260424T225136Z
URL:https://business.veronawi.com/events/details/halloween-party-at-lake-louie-6132
END:VEVENT

END:VCALENDAR
