BEGIN:VCALENDAR
VERSION:2.0
PRODID:-//ChamberMaster//Event Calendar 2.0//EN
METHOD:PUBLISH
X-PUBLISHED-TTL:P3D
REFRESH-INTERVAL:P3D
CALSCALE:GREGORIAN
BEGIN:VEVENT
DTSTART:20260124T190000Z
DTEND:20260124T210000Z
X-MICROSOFT-CDO-ALLDAYEVENT:FALSE
SUMMARY:Free Winter Carnival Open House at Swim&Gym
DESCRIPTION:Swim&Gym invites families to a FREE Winter Carnival Open House featuring indoor gym games\, obstacle courses\, winter-themed arts and crafts\, carnival-style activities\, and free play. This family-friendly\, indoor event is designed for children ages 5 12\, but all ages are welcome.\n\nParents can tour the Swim&Gym facility\, meet the staff\, and learn more about Swim&Gym programs\, including Summer Camp 2025 and a new 3-Day Camp Experience created for first-time campers. Free goody bags will be available for children while supplies last. No registration required.
X-ALT-DESC;FMTTYPE=text/html:<p>Swim&amp\;Gym invites families to a <strong>FREE Winter Carnival Open House</strong> featuring indoor gym games\, obstacle courses\, winter-themed arts and crafts\, carnival-style activities\, and free play. This family-friendly\, indoor event is designed for children ages <strong>5&ndash\;12</strong>\, but <strong>all ages are welcome</strong>.</p>\n\n<p>Parents can tour the Swim&amp\;Gym facility\, meet the staff\, and learn more about Swim&amp\;Gym programs\, including <strong>Summer Camp 2025</strong> and a new <strong>3-Day Camp Experience</strong> created for first-time campers. Free goody bags will be available for children while supplies last. No registration required.</p>\n
LOCATION:821 S. Midvale Blvd\, Madison in the gymnasium of the Midvale Baptist Church
UID:e.2659.6404
SEQUENCE:3
DTSTAMP:20260421T071227Z
URL:https://business.veronawi.com/events/details/free-winter-carnival-open-house-at-swim-gym-6404
END:VEVENT

END:VCALENDAR
