BEGIN:VCALENDAR
VERSION:2.0
PRODID:-//ChamberMaster//Event Calendar 2.0//EN
METHOD:PUBLISH
X-PUBLISHED-TTL:P3D
REFRESH-INTERVAL:P3D
CALSCALE:GREGORIAN
BEGIN:VEVENT
DTSTART:20240510T160000Z
DTEND:20240511T020000Z
X-MICROSOFT-CDO-ALLDAYEVENT:FALSE
SUMMARY:Fairways for Food Golf Outing
DESCRIPTION:Badger Prairie Needs Network is hosting its inaugural charity golf outing on Friday\, May 10 at Pleasant View Golf Course. There will be a shotgun start at Noon. Our 18-hole tournament will be played in a four-player scramble format with a variety of course contests such as longest drive\, closets to the pin and hole-in-one. The fun continues off the course with dinner\, awards\, 50/50 raffle\, and our silent auction. Registration for a single golfer is $125 and $500 for a foursome. Tickets includes a box lunch. A dinner only option is available for $50. Tickets are on sale now. All proceeds go towards fulfilling our mission to end hunger and fight poverty in Dane County. The event is sponsored by the Alliant Energy Foundation and Park Bank. For sponsor information and silent auction donations\, contact Katie Freeman at katie@bpnn.org
X-ALT-DESC;FMTTYPE=text/html:Badger Prairie Needs Network is hosting its inaugural charity golf outing on Friday\, May 10 at Pleasant View Golf Course. There will be a shotgun start at Noon. Our 18-hole tournament will be played in a four-player scramble format with a variety of course contests such as longest drive\, closets to the pin and hole-in-one. The fun continues off the course with dinner\, awards\, 50/50 raffle\, and our silent auction. Registration for a single golfer is $125 and $500 for a foursome. Tickets includes a box lunch. A dinner only option is available for $50. Tickets are on sale now. All proceeds go towards fulfilling our mission to end hunger and fight poverty in Dane County. The event is sponsored by the Alliant Energy Foundation and Park Bank. For sponsor information and silent auction donations\, contact Katie Freeman at katie@bpnn.org
LOCATION:PLEASANT VIEW GOLF COURSE 1322 Pleasant View Road Middleton\, WI
UID:e.2659.4924
SEQUENCE:3
DTSTAMP:20260420T031237Z
URL:https://business.veronawi.com/events/details/fairways-for-food-golf-outing-4924
END:VEVENT

END:VCALENDAR
