BEGIN:VCALENDAR
VERSION:2.0
PRODID:-//ChamberMaster//Event Calendar 2.0//EN
METHOD:PUBLISH
X-PUBLISHED-TTL:P3D
REFRESH-INTERVAL:P3D
CALSCALE:GREGORIAN
BEGIN:VEVENT
DTSTART:20260429T170000Z
DTEND:20260429T173000Z
X-MICROSOFT-CDO-ALLDAYEVENT:FALSE
SUMMARY:Exit Planning 101: What Every Business Owner Should Consider
DESCRIPTION:Most business owners expect the transition or sale of their business to fund the next stage of their lives   but many begin planning too late. Exit planning involves far more than choosing a successor or finding a buyer\; it requires thoughtful preparation across financial\, operational\, and personal dimensions to support a successful transition.\n\n\n\nUnderstanding the key factors that influence a successful exit is the first step in the process. From identifying potential exit paths to evaluating timing\, readiness\, and the broader considerations involved\, a clear framework can help business owners assess their options\, strengthen their planning\, and position their business for a successful exit when the time comes.\n\n\n\nKey Topics\n\n	What exit planning really involves\n	Common exit paths and transition options\n	Personal\, financial\, and business considerations\n	Assessing overall exit readiness
X-ALT-DESC;FMTTYPE=text/html:Most business owners expect the transition or sale of their business to fund the next stage of their lives &ndash\; but many begin planning too late. Exit planning involves far more than choosing a successor or finding a buyer\; it requires thoughtful preparation across financial\, operational\, and personal dimensions to support a successful transition.<br />\n<br />\nUnderstanding the key factors that influence a successful exit is the first step in the process. From identifying potential exit paths to evaluating timing\, readiness\, and the broader considerations involved\, a clear framework can help business owners assess their options\, strengthen their planning\, and position their business for a successful exit when the time comes.<br />\n<br />\n<strong>Key Topics</strong>\n<ul>\n	<li>What exit planning really involves</li>\n	<li>Common exit paths and transition options</li>\n	<li>Personal\, financial\, and business considerations</li>\n	<li>Assessing overall exit readiness</li>\n</ul>\n
LOCATION:Online
UID:e.2659.6468
SEQUENCE:3
DTSTAMP:20260419T133407Z
URL:https://business.veronawi.com/events/details/exit-planning-101-what-every-business-owner-should-consider-6468
END:VEVENT

END:VCALENDAR
