BEGIN:VCALENDAR
VERSION:2.0
PRODID:-//ChamberMaster//Event Calendar 2.0//EN
METHOD:PUBLISH
X-PUBLISHED-TTL:P3D
REFRESH-INTERVAL:P3D
CALSCALE:GREGORIAN
BEGIN:VEVENT
DTSTART:20250323T173000Z
DTEND:20250323T220000Z
X-MICROSOFT-CDO-ALLDAYEVENT:FALSE
SUMMARY:Euchre Tournament
DESCRIPTION:Join us for monthly Euchre Tournaments!\n\n5 Sunday dates in the books so far...\n\n\n	December 22nd\n	January 19th\n	February 16th\n	March 23rd\n	April 13th\n\n\nCheck-in is at 12:30pm and the tournament begins at 1:00pm.\n\nYou do not need to be an expert to play\, beginners are welcome!\n\n*Sign up is required - to reserve your spot in one or all the tournaments please email Sara at: sara.eustice@wbcll.com.\n\n\n	Must bring a partner to participate\n	$20 a team\n	Cash prizes awarded to 1st-4th place winners plus Best Team Name!\n	Beer specials - come thirsty!\n\n\nSee you there!
X-ALT-DESC;FMTTYPE=text/html:<p>Join us for monthly Euchre Tournaments!</p>\n\n<p>5 Sunday dates in the books so far...</p>\n\n<ul>\n	<li>December 22nd</li>\n	<li>January 19th</li>\n	<li>February 16th</li>\n	<li>March 23rd</li>\n	<li>April 13th</li>\n</ul>\n\n<p>Check-in is at 12:30pm and the tournament begins at 1:00pm.<br />\nYou do not need to be an expert to play\, beginners are welcome!<br />\n*Sign up is required - to reserve your spot in one or all the tournaments please email Sara at: <strong>sara.eustice@wbcll.com</strong>.</p>\n\n<ul>\n	<li>Must bring a partner to participate</li>\n	<li>$20 a team</li>\n	<li>Cash prizes awarded to 1st-4th place winners plus Best Team Name!</li>\n	<li>Beer specials - come thirsty!</li>\n</ul>\n\n<p>See you there!&nbsp\;</p>\n
LOCATION:
UID:e.2659.5348
SEQUENCE:3
DTSTAMP:20260425T030142Z
URL:https://business.veronawi.com/events/details/euchre-tournament-12-13-2024-5348
END:VEVENT

END:VCALENDAR
