BEGIN:VCALENDAR
VERSION:2.0
PRODID:-//ChamberMaster//Event Calendar 2.0//EN
METHOD:PUBLISH
X-PUBLISHED-TTL:P3D
REFRESH-INTERVAL:P3D
CALSCALE:GREGORIAN
BEGIN:VEVENT
DTSTART:20250715T000000Z
DTEND:20250715T010000Z
X-MICROSOFT-CDO-ALLDAYEVENT:FALSE
SUMMARY:Classic Movie: The 39 Steps
DESCRIPTION:Experience a classic movie in a historic space!\n\n\n\nFirst shown at Taliesin in 1935\, The 39 Steps is a classic comedy thriller and a highlight of Alfred Hitchcock's directing career. While sitting in a London theatre watching a man perform dazzling memory tricks\, Richard Hannay and the rest of the audience flee after hearing a gunshot. As he leaves\, he encounters a young woman who asks if she can accompany him. Fascinated by her apparent terror\, he agrees. During the night\, however\, she is murdered in his flat\, and he must avoid the police long enough to find the real killers and clear his name. \n\n\n\nThis film is presented in partnership with the River Valley Film Club and American Players Theatre.
X-ALT-DESC;FMTTYPE=text/html:Experience a classic movie in a historic space!<br />\n<br />\nFirst shown at Taliesin in 1935\, The 39 Steps is a classic comedy thriller and a highlight of Alfred Hitchcock&rsquo\;s directing career. While sitting in a London theatre watching a man perform dazzling memory tricks\, Richard Hannay and the rest of the audience flee after hearing a gunshot. As he leaves\, he encounters a young woman who asks if she can accompany him. Fascinated by her apparent terror\, he agrees. During the night\, however\, she is murdered in his flat\, and he must avoid the police long enough to find the real killers and clear his name.&nbsp\;<br />\n<br />\nThis film is presented in partnership with the River Valley Film Club and American Players Theatre.
LOCATION:Hillside Theater at Taliesin
UID:e.2659.5624
SEQUENCE:3
DTSTAMP:20260425T030053Z
URL:https://business.veronawi.com/events/details/classic-movie-the-39-steps-5624
END:VEVENT

END:VCALENDAR
