BEGIN:VCALENDAR
VERSION:2.0
PRODID:-//ChamberMaster//Event Calendar 2.0//EN
METHOD:PUBLISH
X-PUBLISHED-TTL:P3D
REFRESH-INTERVAL:P3D
CALSCALE:GREGORIAN
BEGIN:VEVENT
DTSTART:20160811T210000Z
DTEND:20160812T000000Z
X-MICROSOFT-CDO-ALLDAYEVENT:FALSE
SUMMARY:ChamberFest
DESCRIPTION:Join us for Chamberfest\, our annual "company" picnic at Harriet Park on Aug. 11 from 4-7 pm. There will be great local food and drinks\, yard games\, music and good company! Because this is our way of saying "Thank You" to our chamber members for being so supportive\, this event is FREE and open to the whole family\, so bring your S.O and kids or just some good friends and have a great time!
X-ALT-DESC;FMTTYPE=text/html:Join us for Chamberfest\, our annual &quot\;company&quot\; picnic at Harriet Park on Aug. 11 from 4-7 pm. There will be great local food and drinks\, yard games\, music and good company! Because this is our way of saying &quot\;Thank You&quot\; to our chamber members for being so supportive\, this event is FREE and open to the whole family\, so bring your S.O and kids or just some good friends and have a great time!
LOCATION:Harriet Park - 414 Mary Lou St\, Verona\, WI 53593
UID:e.2659.144
SEQUENCE:3
DTSTAMP:20260419T171044Z
URL:https://business.veronawi.com/events/details/chamberfest-08-11-2016-144
END:VEVENT

END:VCALENDAR
