BEGIN:VCALENDAR
VERSION:2.0
PRODID:-//ChamberMaster//Event Calendar 2.0//EN
METHOD:PUBLISH
X-PUBLISHED-TTL:P3D
REFRESH-INTERVAL:P3D
CALSCALE:GREGORIAN
BEGIN:VEVENT
DTSTART:20160512T220000Z
DTEND:20160513T010000Z
X-MICROSOFT-CDO-ALLDAYEVENT:FALSE
SUMMARY:Chamber Mega Mixer
DESCRIPTION:Mark your calendars! VACC is hosting the Chamber Mega Mixer on Thursday\, May 12th from 5:00 - 8:00 pm at the Wisconsin Brewing Company! This will be a great kick off to the spring/summer season! Weather permitting\, we will able to enjoy the beautiful grounds of the brewery. And\, tours will be available.\n\n\n\nMembers from several surrounding Chambers will be in attendance too! So\, come meet some new business contacts and make new friends from Monona\, Sun Prairie\, New Glarus and Belleville...just to name a few! Registration will be available next week!
X-ALT-DESC;FMTTYPE=text/html:<span style="color:black\;"><span style="font-family:arial\,sans-serif\;"><span style="font-size:9.0pt\;">Mark your calendars! VACC is hosting the Chamber Mega Mixer on Thursday\, May 12th from 5:00 - 8:00 pm at the Wisconsin Brewing Company! This will be a great kick off to the spring/summer season! Weather permitting\, we will able to enjoy the beautiful grounds of the brewery. And\, tours will be available.</span></span></span><br />\n<br />\n<span style="color:black\;"><span style="font-family:arial\,sans-serif\;"><span style="font-size:9.0pt\;">Members from several surrounding Chambers will be in attendance too! So\, come meet some new business contacts and make new friends from Monona\, Sun Prairie\, New Glarus and Belleville...just to name a few! Registration will be available next week!</span></span></span>
LOCATION:Wisconsin Brewing Company
UID:e.2659.132
SEQUENCE:3
DTSTAMP:20260419T211616Z
URL:https://business.veronawi.com/events/details/chamber-mega-mixer-05-12-2016-132
END:VEVENT

END:VCALENDAR
