BEGIN:VCALENDAR
VERSION:2.0
PRODID:-//ChamberMaster//Event Calendar 2.0//EN
METHOD:PUBLISH
X-PUBLISHED-TTL:P3D
REFRESH-INTERVAL:P3D
CALSCALE:GREGORIAN
BEGIN:VEVENT
DTSTART:20260620T233000Z
DTEND:20260621T013000Z
X-MICROSOFT-CDO-ALLDAYEVENT:FALSE
SUMMARY:Cellist Mike Block: Hillside Theater at Taliesin
DESCRIPTION:Mike Block is a Grammy  Award-Winning multi-style cello player\, composer\, singer\, and educator\, with a passion for cross-cultural collaborations. Hailed as "one of the bravest\, most intriguing musicians on the American fusion scene" by Gramophone\, he was acclaimed by the New York Times for his "vital rich-hued solo playing"\, and "a true artist... a sight to behold" by Salt Lake City Desert News. Mike Block's solo show offers a rich mixture of classical repertoire\, folk music\, original compositions and songs that draw inspiration from his diverse collaborations. An admirer of Frank Lloyd Wright's architecture since childhood\, this performance will include works directly inspired by Frank Lloyd Wright and Taliesin.
X-ALT-DESC;FMTTYPE=text/html:Mike Block&nbsp\;is a Grammy&reg\; Award-Winning multi-style cello player\, composer\, singer\, and educator\, with a passion for cross-cultural collaborations. Hailed as &ldquo\;one of the bravest\, most intriguing musicians on the American fusion scene&rdquo\; by Gramophone\, he was acclaimed by the New York Times for his &quot\;vital rich-hued solo playing&rdquo\;\, and &ldquo\;a true artist... a sight to behold&rdquo\; by Salt Lake City Desert News. Mike Block&rsquo\;s solo show offers a rich mixture of classical repertoire\, folk music\, original compositions and songs that draw inspiration from his diverse collaborations.&nbsp\;An admirer of Frank Lloyd Wright&rsquo\;s architecture since childhood\, this performance will include works directly inspired by Frank Lloyd Wright and Taliesin.&nbsp\;&nbsp\;
LOCATION:Hillside Theater
UID:e.2659.6471
SEQUENCE:3
DTSTAMP:20260421T012016Z
URL:https://business.veronawi.com/events/details/cellist-mike-block-hillside-theater-at-taliesin-6471
END:VEVENT

END:VCALENDAR
