BEGIN:VCALENDAR
VERSION:2.0
PRODID:-//ChamberMaster//Event Calendar 2.0//EN
METHOD:PUBLISH
X-PUBLISHED-TTL:P3D
REFRESH-INTERVAL:P3D
CALSCALE:GREGORIAN
BEGIN:VEVENT
DTSTART:20260125T030000Z
DTEND:20260125T220000Z
X-MICROSOFT-CDO-ALLDAYEVENT:FALSE
SUMMARY:Build and Remodel Expo
DESCRIPTION:Your next home project starts at the Build & Remodel Expo. Join the trusted\, local professionals of the Madison Area Builders Association and NARI of Madison at the fourth annual Madison Build & Remodel Expo\, proudly sponsored by James Hardie\, January 24 and 25 at the Madison Marriott West. This premier local event connects homeowners with top building and remodeling professionals from across the Madison area. Explore over one hundred booths\, free seminars\, and expert guidance to help you plan anything from a dream kitchen or bathroom to a more energy-efficient home or a full custom build. Plan your next project with confidence. Visit www.buildremodelexpo.com for details.
X-ALT-DESC;FMTTYPE=text/html:Your next home project starts at the Build &amp\; Remodel Expo. Join the trusted\, local professionals of the Madison Area Builders Association and NARI of Madison at the fourth annual Madison Build &amp\; Remodel Expo\, proudly sponsored by James Hardie\, January 24 and 25 at the Madison Marriott West. This premier local event connects homeowners with top building and remodeling professionals from across the Madison area. Explore over one hundred booths\, free seminars\, and expert guidance to help you plan anything from a dream kitchen or bathroom to a more energy-efficient home or a full custom build. Plan your next project with confidence. Visit www.buildremodelexpo.com for details.
LOCATION:Madison Marriot West 1313 John Q Hammons Dr.\, Middleton\, Wi 53562
UID:e.2659.6176
SEQUENCE:3
DTSTAMP:20260421T055406Z
URL:https://business.veronawi.com/events/details/build-and-remodel-expo-6176
END:VEVENT

END:VCALENDAR
