BEGIN:VCALENDAR
VERSION:2.0
PRODID:-//ChamberMaster//Event Calendar 2.0//EN
METHOD:PUBLISH
X-PUBLISHED-TTL:P3D
REFRESH-INTERVAL:P3D
CALSCALE:GREGORIAN
BEGIN:VEVENT
DTSTART:20170112T140000Z
DTEND:20170112T150000Z
X-MICROSOFT-CDO-ALLDAYEVENT:FALSE
SUMMARY:Board of Directors meeting
DESCRIPTION:The Board of Directors meets on the second Thursday of each month to discuss Chamber operations and upcoming events\, as well as give final approval of Grant Applications approved by the Executive Committee.
X-ALT-DESC;FMTTYPE=text/html:The Board of Directors meets on the second Thursday of each month to discuss Chamber operations and upcoming events\, as well as give final approval of Grant Applications approved by the Executive Committee.
LOCATION:Verona Area Chamber of Commerce 120 W. Verona Ave.\, Verona WI 53593
UID:e.2659.291
SEQUENCE:3
DTSTAMP:20260419T134329Z
URL:https://business.veronawi.com/events/details/board-of-directors-meeting-01-12-2017-291
END:VEVENT

END:VCALENDAR
