BEGIN:VCALENDAR
VERSION:2.0
PRODID:-//ChamberMaster//Event Calendar 2.0//EN
METHOD:PUBLISH
X-PUBLISHED-TTL:P3D
REFRESH-INTERVAL:P3D
CALSCALE:GREGORIAN
BEGIN:VEVENT
DTSTART;VALUE=DATE:20260501
DTEND;VALUE=DATE:20260504
TRANSP:TRANSPARENT
X-MICROSOFT-CDO-ALLDAYEVENT:TRUE
SUMMARY:Blain's Fest 2026
DESCRIPTION:Blain's Farm & Fleet is hosting Blain's Fest 2026\, a three-day in-store event celebrating the start of the outdoor season with deals\, giveaways\, and activities for all ages. Event Highlights: More than $100\,000 in prizes\, including outdoor-themed sweepstakes Daily giveaways for the first 100 guests (while supplies last) Friday: Play & Win digital games through the Blain's Rewards app Saturday & Sunday: "Be An Original" photo booth with a chance to win a $500 gift card Saturday: Kids Workshop   Paint a Stepping Stone (registration required) Sunday: Kids Workshop   Mini-Bucket Makeover (registration required) Seasonal deals and in-store promotions across outdoor and backyard categories Blain's Fest offers a weekend of savings\, interactive experiences\, and family-friendly activities to kick off the spring season.
X-ALT-DESC;FMTTYPE=text/html:Blain&rsquo\;s Farm &amp\; Fleet is hosting Blain&rsquo\;s Fest 2026\, a three-day in-store event celebrating the start of the outdoor season with deals\, giveaways\, and activities for all ages. Event Highlights: More than $100\,000 in prizes\, including outdoor-themed sweepstakes Daily giveaways for the first 100 guests (while supplies last) Friday: Play &amp\; Win digital games through the Blain&rsquo\;s Rewards app Saturday &amp\; Sunday: &ldquo\;Be An Original&rdquo\; photo booth with a chance to win a $500 gift card Saturday: Kids Workshop &ndash\; Paint a Stepping Stone (registration required) Sunday: Kids Workshop &ndash\; Mini-Bucket Makeover (registration required) Seasonal deals and in-store promotions across outdoor and backyard categories Blain&rsquo\;s Fest offers a weekend of savings\, interactive experiences\, and family-friendly activities to kick off the spring season.
LOCATION:Blain's Farm & Fleet 600 Hometown Circle Verona\, WI 53593
UID:e.2659.6474
SEQUENCE:3
DTSTAMP:20260422T185329Z
URL:https://business.veronawi.com/events/details/blain-s-fest-2026-6474
END:VEVENT

END:VCALENDAR
