BEGIN:VCALENDAR
VERSION:2.0
PRODID:-//ChamberMaster//Event Calendar 2.0//EN
METHOD:PUBLISH
X-PUBLISHED-TTL:P3D
REFRESH-INTERVAL:P3D
CALSCALE:GREGORIAN
BEGIN:VEVENT
DTSTART:20260125T180000Z
DTEND:20260125T230000Z
X-MICROSOFT-CDO-ALLDAYEVENT:FALSE
SUMMARY:Beer & Pie Pairing
DESCRIPTION:Celebrate National Pie Day at Lake Louie!\n\nJoin us for a Beer & Pie Pairing on Sunday\, January 25th from 12-5PM!\n\nFor just $20\, enjoy a 6-inch pie of your choice paired with a flight of four perfectly matched brews.\n\nPies baked by:\n\nSugar River Country Bakery\n\nThe Pairings:\n\n\n	Peach Pie - Paired with: Grapefruit Seltzer\, Wisconsin Vacation\, Warped Speed\, and S'Wheat Caroline\n	Caramel Cream Pie - Paired with: Warped Speed\, Badger Club\, Pier Pressure\, and Cherry Creek\n	Raspberry Crunch Pie - Paired with: Tart Lime Twist\, Dark Side of the Loon\, Wisconsin Vacation\, and Kiwi Strawberry Seltzer\n	Chocolate Peanut Butter Pie - Paired with: Dark Side of the Loon\, S'Wheat Caroline\, Badger Club\, and Pier Pressure\n\n\nWhile supplies last stop in early to guarantee a taste!\n\nWe'll see you there!
X-ALT-DESC;FMTTYPE=text/html:<p>Celebrate National Pie Day at Lake Louie!</p>\n\n<p>Join us for a Beer &amp\; Pie Pairing on Sunday\, January 25th from 12-5PM!</p>\n\n<p>For just $20\, enjoy a 6-inch pie of your choice paired with a flight of four perfectly matched brews.</p>\n\n<p>Pies baked by:<br />\nSugar River Country Bakery</p>\n\n<p>The Pairings:</p>\n\n<ol>\n	<li>Peach Pie - Paired with: Grapefruit Seltzer\, Wisconsin Vacation\, Warped Speed\, and S&#39\;Wheat Caroline</li>\n	<li>Caramel Cream Pie - Paired with: Warped Speed\, Badger Club\, Pier Pressure\, and Cherry Creek</li>\n	<li>Raspberry Crunch Pie - Paired with: Tart Lime Twist\, Dark Side of the Loon\, Wisconsin Vacation\, and Kiwi Strawberry Seltzer</li>\n	<li>Chocolate Peanut Butter Pie - Paired with: Dark Side of the Loon\, S&#39\;Wheat Caroline\, Badger Club\, and Pier Pressure</li>\n</ol>\n\n<p>While supplies last&mdash\;stop in early to guarantee a taste!</p>\n\n<p>We&rsquo\;ll see you there!</p>\n
LOCATION:
UID:e.2659.6402
SEQUENCE:3
DTSTAMP:20260421T070637Z
URL:https://business.veronawi.com/events/details/beer-pie-pairing-01-25-2026-6402
END:VEVENT

END:VCALENDAR
