BEGIN:VCALENDAR
VERSION:2.0
PRODID:-//ChamberMaster//Event Calendar 2.0//EN
METHOD:PUBLISH
X-PUBLISHED-TTL:P3D
REFRESH-INTERVAL:P3D
CALSCALE:GREGORIAN
BEGIN:VEVENT
DTSTART:20160517T123000Z
DTEND:20160517T133000Z
X-MICROSOFT-CDO-ALLDAYEVENT:FALSE
SUMMARY:BB9 - DOT/Verona Road Construction Update
DESCRIPTION:Steve Thiessen from WisDOT and\n\nCindy Jaggi from Verona Road Business Coalition will present an update on the Stage 2 Road Construction beginning in 2016 at our Business Before Nine on May 17th\, 7:30 am at the Holiday Inn Express & Suites here in Verona.
X-ALT-DESC;FMTTYPE=text/html:<div _mce_style="font-family: Arial\, Helvetica\, sans-serif\; font-size: 9pt\;" style="color: rgb(0\, 86\, 150)\; line-height: normal\; font-family: Arial\, Helvetica\, sans-serif\; font-size: 9pt\;"><span _mce_style="color: #1f497d\;" style="color: rgb(31\, 73\, 125)\;">Steve Thiessen from WisDOT and</span></div>\n\n<div _mce_style="font-family: Arial\, Helvetica\, sans-serif\; font-size: 9pt\;" style="color: rgb(0\, 86\, 150)\; line-height: normal\; font-family: Arial\, Helvetica\, sans-serif\; font-size: 9pt\;"><span _mce_style="color: #1f497d\;" style="color: rgb(31\, 73\, 125)\;">Cindy Jaggi from Verona Road Business Coalition will present&nbsp\;</span>an update on the Stage 2 Road Construction beginning in 2016 at our Business Before Nine on May 17th\, 7:30 am at the Holiday Inn Express &amp\; Suites here in Verona.&nbsp\;</div>\n\n<div _mce_style="font-family: Arial\, Helvetica\, sans-serif\; font-size: 9pt\;" style="color: rgb(0\, 86\, 150)\; line-height: normal\; font-family: Arial\, Helvetica\, sans-serif\; font-size: 9pt\;">&nbsp\;</div>\n\n<div _mce_style="font-family: Arial\, Helvetica\, sans-serif\; font-size: 9pt\;" style="color: rgb(0\, 86\, 150)\; line-height: normal\; font-family: Arial\, Helvetica\, sans-serif\; font-size: 9pt\;">&nbsp\;</div>\n
LOCATION:Holiday Inn Express & Suites 515 W. Verona Ave.\, Verona WI 53593
UID:e.2659.140
SEQUENCE:3
DTSTAMP:20260419T211657Z
URL:https://business.veronawi.com/events/details/bb9-dot-verona-road-construction-update-05-17-2016-140
END:VEVENT

END:VCALENDAR
