BEGIN:VCALENDAR
VERSION:2.0
PRODID:-//ChamberMaster//Event Calendar 2.0//EN
METHOD:PUBLISH
X-PUBLISHED-TTL:P3D
REFRESH-INTERVAL:P3D
CALSCALE:GREGORIAN
BEGIN:VEVENT
DTSTART:20160920T223000Z
DTEND:20160921T010000Z
X-MICROSOFT-CDO-ALLDAYEVENT:FALSE
SUMMARY:Bags\, Brews\, & BBQ
DESCRIPTION:Please join VYP for our fall networking event at Wisconsin Brewing Company! This is the culmination of our fall school supply drive to benefit Verona Area Elementary Schools. We kindly request that each guest bring a school supply for donation. We'll be grilling out\, drinking WBC beer and playing bags. Sign up with friends for a chance to win prizes in our bracket tournament. VYP has the food covered. Cash bar for beverages. Limited space available. Please register on Event Brite to secure your spot! http://bagsbrewsbbq.eventbrite.com/ Wondering what school supplies are most in need for the school year? Here are some suggestions: Backpacks Pencils Glue sticks Notebooks Markers Dry erase markers Childrens Socks Childrens Underwear More information and a full supply list can be found at http://vypwisc.wixsite.com/schoolsupplydrive
X-ALT-DESC;FMTTYPE=text/html:Please join VYP for our fall networking event at Wisconsin Brewing Company! This is the culmination of our fall school supply drive to benefit Verona Area Elementary Schools. We kindly request that each guest bring a school supply for donation. We&#39\;ll be grilling out\, drinking WBC beer and playing bags. Sign up with friends for a chance to win prizes in our bracket tournament. VYP has the food covered. Cash bar for beverages. Limited space available. Please register on Event Brite to secure your spot! http://bagsbrewsbbq.eventbrite.com/ Wondering what school supplies are most in need for the school year? Here are some suggestions: Backpacks Pencils Glue sticks Notebooks Markers Dry erase markers Childrens Socks Childrens Underwear More information and a full supply list can be found at http://vypwisc.wixsite.com/schoolsupplydrive
LOCATION:Wisconsin Brewing Company
UID:e.2659.147
SEQUENCE:3
DTSTAMP:20260419T154505Z
URL:https://business.veronawi.com/events/details/bags-brews-bbq-09-20-2016-147
END:VEVENT

END:VCALENDAR
