BEGIN:VCALENDAR
VERSION:2.0
PRODID:-//ChamberMaster//Event Calendar 2.0//EN
METHOD:PUBLISH
X-PUBLISHED-TTL:P3D
REFRESH-INTERVAL:P3D
CALSCALE:GREGORIAN
BEGIN:VEVENT
DTSTART;VALUE=DATE:20250712
DTEND;VALUE=DATE:20250714
TRANSP:TRANSPARENT
X-MICROSOFT-CDO-ALLDAYEVENT:TRUE
SUMMARY:Art Fair OFF the Square
DESCRIPTION:Browse some of the amazing\, local artists at our annual summer show! Featured Artists Miquel Serna and Gina Martinez-Serna. Brought to you by the Wisconsin Alliance of Artists and Craftspeople\, Inc.
X-ALT-DESC;FMTTYPE=text/html:<span style="font-family: lato-light\, lato\, sans-serif\; font-size: 16px\; font-weight: 700\; white-space-collapse: preserve\; background-color: rgb(255\, 255\, 255)\;">Browse some of the amazing\, local artists at our annual summer show! Featured Artists Miquel Serna and Gina Martinez-Serna. Brought to you by the Wisconsin Alliance of Artists and Craftspeople\, Inc.</span>
LOCATION:200 Martin Luther King Jr Blvd\, Madison - between the Capitol & Monona Terrace.
UID:e.2659.5650
SEQUENCE:3
DTSTAMP:20260425T030000Z
URL:https://business.veronawi.com/events/details/art-fair-off-the-square-5650
END:VEVENT

END:VCALENDAR
