BEGIN:VCALENDAR
VERSION:2.0
PRODID:-//ChamberMaster//Event Calendar 2.0//EN
METHOD:PUBLISH
X-PUBLISHED-TTL:P3D
REFRESH-INTERVAL:P3D
CALSCALE:GREGORIAN
BEGIN:VEVENT
DTSTART:20160224T233000Z
DTEND:20160225T020000Z
X-MICROSOFT-CDO-ALLDAYEVENT:FALSE
SUMMARY:Annual Meeting and Magic Show
DESCRIPTION:How did he do that? \n\nSeriously\, that's amazing. \n\nPlease show me how you did that!\n\n \n\nYou'll hear those and similar remarks as Matthew Teague amazes at this year's Verona Area Chamber of Commerce Annual Meeting. Matthew is an extraordinary illusionist who always leaves people smiling and scratching their heads. When you see his mastery\, you will say\, "Yes\, I believe in magic!"\n\nEverything Matthew does is accomplished through sleight of hand\, Illusions\, psychology\, suggestion and the hidden science of human behavior. Some of these principles are hundreds or even thousands of years old and have aged like a fine wine . . . creating a taste that is absolutely astonishing. So join him on an adventurous journey through the mysterious ways our minds work. Matthew will present a stage performance that may just levitate you\, and will also go table-to-table with up-close illusions.\n\n \n\nThe evening promises to satisfy in every way\, beginning with a bounty of heavy appetizers and hors d'oeuvres\, cocktails and table magic that will astound you!\n\n \n\nALSO:\n\n\n	Back by popular demand is the "Raffle You Can't Really Lose" prize board. Cost per square is $10 and every prize is worth $10 dollars or more. You really CAN'T lose!\n	We have maintained the same price for the event as last year -- $35 per person. All Chamber members\, prospective members\, friends and family are welcome.\n\nTo register click HERE or mail your check and attendee names to: VACC\, 120 West Verona Avenue\, Verona WI 53593
X-ALT-DESC;FMTTYPE=text/html:<strong><span style="font-family:arial\,sans-serif"><span style="font-size:9.0pt">How did he do that? </span></span></strong><br />\n<strong><span style="font-family:arial\,sans-serif"><span style="font-size:9.0pt">Seriously\, that&#39\;s amazing. </span></span></strong><br />\n<strong><span style="font-family:arial\,sans-serif"><span style="font-size:9.0pt">Please show me how you did that!</span></span></strong><br />\n&nbsp\;<br />\n<span style="font-family:arial\,sans-serif"><span style="font-size:9.0pt">You&#39\;ll hear those and similar remarks as Matthew Teague amazes at this year&#39\;s Verona Area Chamber of Commerce Annual Meeting. Matthew is an extraordinary illusionist who always leaves people smiling and scratching their heads. When you see his mastery\, you will say\, &quot\;Yes\, I believe in magic!&quot\;</span></span><br />\n<span style="font-family:arial\,sans-serif"><span style="font-size:9.0pt">Everything Matthew does is accomplished through sleight of hand\, Illusions\, psychology\, suggestion and the hidden science of human behavior. Some of these principles are hundreds or even thousands of years old and have aged like a fine wine . . . creating a taste that is absolutely astonishing. So join him on an adventurous journey through the mysterious ways our minds work.&nbsp\;Matthew will present a stage performance that may just levitate you\, and will also go table-to-table with up-close illusions.</span></span><br />\n&nbsp\;<br />\n<span style="font-family:arial\,sans-serif"><span style="font-size:9.0pt">The evening promises to satisfy in every way\, beginning with a bounty of heavy appetizers and hors d&#39\;oeuvres\, cocktails and table magic that will astound you!</span></span><br />\n&nbsp\;<br />\n<strong><span style="font-family:arial\,sans-serif"><span style="font-size:9.0pt">ALSO:</span></span></strong>\n\n<ul>\n	<li><span style="font-family:arial\,sans-serif"><span style="font-size:9.0pt">Back by popular demand is the &quot\;Raffle You Can&#39\;t Really Lose&quot\; prize board. Cost per square is $10 and every prize is worth $10 dollars or more. You really CAN&#39\;T lose!</span></span></li>\n	<li><span style="font-family:arial\,sans-serif"><span style="font-size:9.0pt">We have maintained the same price for the event as last year -- $35 per person. All Chamber members\, prospective members\, friends and family are welcome.</span></span></li>\n</ul>\n<span style="font-family:arial\,sans-serif"><span style="font-size:9.0pt">To register click <a href="http://r20.rs6.net/tn.jsp?f=00175RT1VdLGw3xk8SUNgXlNwyr0FNlm45iHL0yu8YvTD2vmIhAYjj4taZqKIZjiY-pD-qcIqGDLluADMYyv3Y15oADWfqwQrWFFvfkqKQkoidrsZG4RRkPt5wiYx9mCDMhi4tmR9SR1H27JPyjykyhsy-6bVshTZjKupI6fbm4bxsDJl6Y43due3B_VffbpLyEN6h5zTkVY5s=&amp\;c=HN3X5FXYCLBdNXEPDfbLIbCv6JqG0JF9gbLTvgxboD1ZZTvjkJUYzQ==&amp\;ch=8meTrF_xuRFh4Ef4phP_UnWguOVyFLYvnGavC4hm6eEukxBLMIKoVQ==" target="_blank">HERE</a> or mail your check and attendee names to:&nbsp\;<em>VACC\, 120 West Verona Avenue\, Vero</em></span></span><span style="color:white"><span style="font-family:arial\,sans-serif"><span style="font-size:9.0pt"><em>na WI 53593</em></span></span></span>
LOCATION:Marquis Ballroom\, 6220 Nesbitt Rd\, Fitchburg\, WI 53719
UID:e.2659.1
SEQUENCE:3
DTSTAMP:20260420T011618Z
URL:https://business.veronawi.com/events/details/annual-meeting-and-magic-show-02-24-2016-1
END:VEVENT

END:VCALENDAR
