BEGIN:VCALENDAR
VERSION:2.0
PRODID:-//ChamberMaster//Event Calendar 2.0//EN
METHOD:PUBLISH
X-PUBLISHED-TTL:P3D
REFRESH-INTERVAL:P3D
CALSCALE:GREGORIAN
BEGIN:VEVENT
DTSTART:20240116T180000Z
DTEND:20240116T193000Z
X-MICROSOFT-CDO-ALLDAYEVENT:FALSE
SUMMARY:Achieve a Different Result In Your Business
DESCRIPTION:Business owners:\n\n\n	Feeling stuck?\n	Are you looking for a different result?\n	Ready to get more out of your business?\n\n\nImagine a prosperous future\, where your business begins to operate at its highest potential.\n\nWhere you have the right strategy in place\, a winning team dynamic\, and a business that provides consistent cash flow.\n\nWhere you don't have to take on every task and responsibility for your business to thrive.\n\nSign on for this virtual workshop and begin to achieve those better results.\n\nAt this virtual event\, we discuss key steps to begin systemizing key aspects of your business    allowing you to grow success with time\, team\, and profit.\n\nA different result IS possible.\n\nThe event will be hosted by our coach\, Monica Gunderson\, bringing years of experience in business management and development.\n\nThis one is on us! Register for our seminar and change your business trajectory for good!\n\nWe will be meeting over Microsoft Teams. Meeting link provided upon registration.
X-ALT-DESC;FMTTYPE=text/html:<p style="margin-left:0px\; margin-right:0px"><span style="font-size:14px"><strong>Business owners:</strong></span></p>\n\n<ul>\n	<li><span style="font-size:14px"><strong>Feeling stuck?</strong></span></li>\n	<li><span style="font-size:14px"><strong>Are you looking for a different result?</strong></span></li>\n	<li><span style="font-size:14px"><strong>Ready to get more out of your business?</strong></span></li>\n</ul>\n\n<p style="margin-left:0px\; margin-right:0px">Imagine a prosperous future\, where your business begins to operate at its highest potential.</p>\n\n<p style="margin-left:0px\; margin-right:0px">Where you have the right strategy in place\, a winning team dynamic\, and a business that provides consistent cash flow.</p>\n\n<p style="margin-left:0px\; margin-right:0px">Where you don&rsquo\;t have to take on every task and responsibility for your business to thrive.</p>\n\n<p style="margin-left:0px\; margin-right:0px"><strong><a href="https://chiselactioncoach.com/event/jan-16-virtual-seminar-achieve-a-different-result-in-your-business/"><span style="color:rgb(255\, 0\, 0)">Sign on</span></a>&nbsp\;for this virtual workshop and begin to achieve those better results.</strong></p>\n\n<p style="margin-left:0px\; margin-right:0px">At this virtual event\, we discuss key steps to begin systemizing key aspects of your business &ndash\;&ndash\; allowing you to grow success with time\, team\, and profit.</p>\n\n<p style="margin-left:0px\; margin-right:0px">A different result IS possible.</p>\n\n<p style="margin-left:0px\; margin-right:0px">The event will be hosted by our coach\, Monica Gunderson\, bringing years of experience in business management and development.</p>\n\n<p style="margin-left:0px\; margin-right:0px">This one is on us! Register for our seminar and change your business trajectory for good!</p>\n\n<p style="margin-left:0px\; margin-right:0px">We will be meeting over Microsoft Teams. Meeting link provided upon&nbsp\;<a href="https://chiselactioncoach.com/event/jan-16-virtual-seminar-achieve-a-different-result-in-your-business/"><span style="color:rgb(255\, 0\, 0)">registration</span></a>.</p>\n
LOCATION:We will be meeting over Microsoft Teams. Meeting link provided upon registration.
UID:e.2659.4837
SEQUENCE:3
DTSTAMP:20260420T093536Z
URL:https://business.veronawi.com/events/details/achieve-a-different-result-in-your-business-4837
END:VEVENT

END:VCALENDAR
